BEGIN:VCALENDAR
VERSION:2.0
PRODID:-//Tahko Spa Hotel - ECPv6.15.20//NONSGML v1.0//EN
CALSCALE:GREGORIAN
METHOD:PUBLISH
X-ORIGINAL-URL:https://tahkospa.fi
X-WR-CALDESC:Tapahtumat Tahko Spa Hotel
REFRESH-INTERVAL;VALUE=DURATION:PT1H
X-Robots-Tag:noindex
X-PUBLISHED-TTL:PT1H
BEGIN:VTIMEZONE
TZID:Europe/Helsinki
BEGIN:DAYLIGHT
TZOFFSETFROM:+0200
TZOFFSETTO:+0300
TZNAME:EEST
DTSTART:20240331T010000
END:DAYLIGHT
BEGIN:STANDARD
TZOFFSETFROM:+0300
TZOFFSETTO:+0200
TZNAME:EET
DTSTART:20241027T010000
END:STANDARD
BEGIN:DAYLIGHT
TZOFFSETFROM:+0200
TZOFFSETTO:+0300
TZNAME:EEST
DTSTART:20250330T010000
END:DAYLIGHT
BEGIN:STANDARD
TZOFFSETFROM:+0300
TZOFFSETTO:+0200
TZNAME:EET
DTSTART:20251026T010000
END:STANDARD
BEGIN:DAYLIGHT
TZOFFSETFROM:+0200
TZOFFSETTO:+0300
TZNAME:EEST
DTSTART:20260329T010000
END:DAYLIGHT
BEGIN:STANDARD
TZOFFSETFROM:+0300
TZOFFSETTO:+0200
TZNAME:EET
DTSTART:20261025T010000
END:STANDARD
END:VTIMEZONE
BEGIN:VEVENT
DTSTART;TZID=Europe/Helsinki:20250920T100000
DTEND;TZID=Europe/Helsinki:20250920T130000
DTSTAMP:20260420T042107
CREATED:20250918T074756Z
LAST-MODIFIED:20260312T110527Z
UID:10000547-1758362400-1758373200@tahkospa.fi
SUMMARY:SuperPark: Perheaamu
DESCRIPTION:SuperParkin perheaamut on tarkoitettu perheen alle kouluikäisille lapsille ja heidän huoltajilleen (yli 18 v.). Perheen koko on 2-5 henkilöä (1-2 aikuista ja 1-4 alle 7 v. lasta). Perheaamuja järjestetään sesonkiaikojen ulkopuolella 1-2 kertaa kuussa ja toivomme niiden innostavan pienten lasten perheitä tulemaan Tahkolle myös silloin kun meillä on hiljaisempaa\, eli pienille pomppijoille on silloin paremmin tilaa! \n2h perhelipun hinta on PERHEAAMUNA superedullinen 20 €/perhe. Ilakoidaan yhdessä!  Lippuja myydään vain Tahko Span vastaanottotiskiltä. lippujen myyntiaika on rajattu 10:00 -11:30.
URL:https://tahkospa.fi/tapahtuma/superpark-perheaamu/2025-09-20/
ATTACH;FMTTYPE=image/jpeg:https://tahkospa.fi/wp-content/uploads/2025/05/A7C03666_crop-1024x683-1.jpg
END:VEVENT
END:VCALENDAR