BEGIN:VCALENDAR
VERSION:2.0
PRODID:-//Tahko Spa Hotel - ECPv6.15.20//NONSGML v1.0//EN
CALSCALE:GREGORIAN
METHOD:PUBLISH
X-WR-CALNAME:Tahko Spa Hotel
X-ORIGINAL-URL:https://tahkospa.fi
X-WR-CALDESC:Tapahtumat Tahko Spa Hotel
REFRESH-INTERVAL;VALUE=DURATION:PT1H
X-Robots-Tag:noindex
X-PUBLISHED-TTL:PT1H
BEGIN:VTIMEZONE
TZID:Europe/Helsinki
BEGIN:DAYLIGHT
TZOFFSETFROM:+0200
TZOFFSETTO:+0300
TZNAME:EEST
DTSTART:20240331T010000
END:DAYLIGHT
BEGIN:STANDARD
TZOFFSETFROM:+0300
TZOFFSETTO:+0200
TZNAME:EET
DTSTART:20241027T010000
END:STANDARD
BEGIN:DAYLIGHT
TZOFFSETFROM:+0200
TZOFFSETTO:+0300
TZNAME:EEST
DTSTART:20250330T010000
END:DAYLIGHT
BEGIN:STANDARD
TZOFFSETFROM:+0300
TZOFFSETTO:+0200
TZNAME:EET
DTSTART:20251026T010000
END:STANDARD
BEGIN:DAYLIGHT
TZOFFSETFROM:+0200
TZOFFSETTO:+0300
TZNAME:EEST
DTSTART:20260329T010000
END:DAYLIGHT
BEGIN:STANDARD
TZOFFSETFROM:+0300
TZOFFSETTO:+0200
TZNAME:EET
DTSTART:20261025T010000
END:STANDARD
END:VTIMEZONE
BEGIN:VEVENT
DTSTART;VALUE=DATE:20250922
DTEND;VALUE=DATE:20251013
DTSTAMP:20260420T041921
CREATED:20250815T093215Z
LAST-MODIFIED:20250919T090239Z
UID:10000477-1758499200-1760313599@tahkospa.fi
SUMMARY:Ruskaviikot
DESCRIPTION:Kolme viikkoa kestävät ruskaviikot Tahkolla tarjoavat joka viikonpäivälle elämyksiä: musiikkia\, huumoria\, luontoelämyksiä\, aktiviteetteja sekä rentoa yhdessäoloa ruskan värittämässä ympäristössä. \nOhjelmassa on mm. iltapäivätansseja\, stand-upia\, after ski -henkeä\, ohjattuja tislaamoretkiä\, viiniä ja virkkausta\, karaokea\, lautapelejä ja luontoretkiä. Tahko Spa tarjoaa viikottaisia ryhmäliikuntatunteja sekä kynttiläuinteja ja teemakeilauksia. \nTahko Span viikko-ohjelma 22.9.-10.10.: \nMaanantai \n\n18.00–18.30 Äänimaljarentoutus | Tahko Spa\n\nKeskiviikko \n\n14.00–14.40 Vesijumppa | Tahko Spa | Kylpylämaksu erikseen\n\nTorstai \n\n10.10–10.40 Keppijumppa | Tahko Spa\n16.00 Bingo | Tahko Spa | Ilmainen\, palkintoja voittajille\n\nPerjantai \n\n15.00–20.00 Hohtokeilaus – teemailta | Tahko Spa | 30 €/rata/h + kenkävuokra 3 €/pelaaja\n17.00–20.00 Kynttiläuinti | Tahko Spa | Tunnelmallinen kynttiläuinti normaali sisäänpääsyn hinnalla\, suositusikäraja 18\n\nLauantai \n\n10.00–10.45 Yin-jooga + äänimaljarentoutus | Tahko Spa\n\nIlmottaudu mukaan eri ryhmäliikuntatunneille täältä. \nTutustu koko Tahkon alueen ohjelmaan täältä.  \nMajoitustarjoukset: \nHyödynnä ruskaviikkojen aikana kolme yötä kahden hinnalla tai arkitarjousta: 150€ / kaksi yötä. 
URL:https://tahkospa.fi/tapahtuma/ruskaviikot/
ATTACH;FMTTYPE=image/jpeg:https://tahkospa.fi/wp-content/uploads/2025/08/pexels-photo-235767-235767-scaled.jpg
END:VEVENT
BEGIN:VEVENT
DTSTART;VALUE=DATE:20250925
DTEND;VALUE=DATE:20250926
DTSTAMP:20260420T041921
CREATED:20250815T100318Z
LAST-MODIFIED:20250815T100318Z
UID:10000534-1758758400-1758844799@tahkospa.fi
SUMMARY:Kaikille avoin keppijumppa klo 10:10-10:40
DESCRIPTION:Kaikille avoin tunti\, jossa keppiä käytetään monipuolisesti liikkuvuus- ja lihaskuntoliikkeissä sekä tasapainoharjoitteissa. Halutessasi voit ottaa oman patjan mukaan. \n\n\n\n\n\n\n\nTunnit ohjaa ihana Amanda Taskinen – koulutettu Personal Trainer\, äitiysliikuntaneuvoja ja mm. äänimaljahoitaja.  \nIlmottaudu tunneille Tahko Span vastaanotosta tai täältä. Ilmoittautuminen viim. klo 18 edellisenä iltana. \n\n\nHinta 10€ / tunti per henkilö – maksu Tahko Span vastaanottoon.
URL:https://tahkospa.fi/tapahtuma/kaikille-avoin-keppijumppa-klo-1010-1040/2025-09-25/
ATTACH;FMTTYPE=image/jpeg:https://tahkospa.fi/wp-content/uploads/2025/08/g021c91ce8c6517413e0e5f1c6798b81c0c0e751424c4d5886c0d11fb6a9328f2e4cc934ebe64c9b94dbd56dedf6794f6_1280-534615.jpg
END:VEVENT
BEGIN:VEVENT
DTSTART;VALUE=DATE:20250925
DTEND;VALUE=DATE:20250926
DTSTAMP:20260420T041921
CREATED:20250918T074251Z
LAST-MODIFIED:20250919T091943Z
UID:10000546-1758758400-1758844799@tahkospa.fi
SUMMARY:Täyden kympin Ruskatorstai 🍁
DESCRIPTION:Syksyn hauskimmat torstait ovat täällä! Tule keilaamaan\, rentoutumaan ja herkuttelemaan Tahko Spahan. \nIllan erikoisuutena lavalle nousee Lucky Duo\, joka viihdyttää klo 17:30–19 ja soittaa tunnettuja klassikoita J. Cashista J. Karjalaiseen\, Elviksestä Baddingiin – luvassa on taatusti hyvää fiilistä ja musiikkia. \nJa mikä parasta – seuraavat aktiviteetit maksavat vain 10 € / kpl: \n\n30 min keilaus\nAllasosaston sisäänpääsy\nGlow Golf -kierros\nKahden hengen salikäynti\nRiemun RuskaBurger\nKaksi hanajuomaa Span puolella\n\nTervetuloa viettämään ikimuistoinen Täyden Kympin Ruskatorstai – hyvää ruokaa\, liikuntaa ja livemusiikkia saman katon alla!
URL:https://tahkospa.fi/tapahtuma/tayden-kympin-ruskatorstai-%f0%9f%8d%81/
ATTACH;FMTTYPE=image/jpeg:https://tahkospa.fi/wp-content/uploads/2025/09/pexels-photo-4088014-4088014-scaled.jpg
END:VEVENT
BEGIN:VEVENT
DTSTART;VALUE=DATE:20250925
DTEND;VALUE=DATE:20250929
DTSTAMP:20260420T041921
CREATED:20250815T093837Z
LAST-MODIFIED:20250815T093912Z
UID:10000478-1758758400-1759103999@tahkospa.fi
SUMMARY:Tahko Oktoberfest
DESCRIPTION:Syyskuun lopulla Tahkolla juhlitaan baijerilaisittain: letkeää kansanmusiikkia\, mallasjuomien klassikkonautintoja ja pöydän jylinää – kaikki katettuna aina illan pikkutunneille asti. \nPerjantaina lavalle nousevat koko kansan suosikki Teflon Brothers\, raikas Komiat ja bändi nimeltä Sauerkraut7. \nLauantaina ohjelmassa on Martti Servo & Napanderin huumoria\, Frederik-inspiroiva esiintyminen sekä persoonallinen Sauerkraut7. \nTervetuloa mukaan johonkin\, mikä yhdistää syksyn sielun ja juhlinnan riemun! \nTutustu tapahtumaan ja osta liput täältä. \nOsa Tahko Span majoituksista on jo täynnä Oktoberfestien aikaan\, varaa omasi nyt! 
URL:https://tahkospa.fi/tapahtuma/tahko-oktoberfest/
ATTACH;FMTTYPE=image/jpeg:https://tahkospa.fi/wp-content/uploads/2025/08/pexels-photo-1574217-1574217-scaled.jpg
END:VEVENT
BEGIN:VEVENT
DTSTART;TZID=Europe/Helsinki:20250925T170000
DTEND;TZID=Europe/Helsinki:20250925T180000
DTSTAMP:20260420T041921
CREATED:20250828T080658Z
LAST-MODIFIED:20250919T091727Z
UID:10000550-1758819600-1758823200@tahkospa.fi
SUMMARY:Torstaibingo
DESCRIPTION:Ilmainen bingo Tahko Spalla. Pieniä palkintoja voittajille!
URL:https://tahkospa.fi/tapahtuma/torstaibingo-klo-1600/
ATTACH;FMTTYPE=image/jpeg:https://tahkospa.fi/wp-content/uploads/2025/08/gcb122dcfa62fd397500013a76e7b669c4314600dd57be430a9da6a384a376b6082e7638ff799012eee3b174f3b276ccc8132d8d6c06dc2716de661a9b0100580_1280-8093655.jpg
END:VEVENT
END:VCALENDAR