BEGIN:VCALENDAR
VERSION:2.0
PRODID:-//Tahko Spa Hotel - ECPv6.15.20//NONSGML v1.0//EN
CALSCALE:GREGORIAN
METHOD:PUBLISH
X-WR-CALNAME:Tahko Spa Hotel
X-ORIGINAL-URL:https://tahkospa.fi
X-WR-CALDESC:Tapahtumat Tahko Spa Hotel
REFRESH-INTERVAL;VALUE=DURATION:PT1H
X-Robots-Tag:noindex
X-PUBLISHED-TTL:PT1H
BEGIN:VTIMEZONE
TZID:Europe/Helsinki
BEGIN:DAYLIGHT
TZOFFSETFROM:+0200
TZOFFSETTO:+0300
TZNAME:EEST
DTSTART:20240331T010000
END:DAYLIGHT
BEGIN:STANDARD
TZOFFSETFROM:+0300
TZOFFSETTO:+0200
TZNAME:EET
DTSTART:20241027T010000
END:STANDARD
BEGIN:DAYLIGHT
TZOFFSETFROM:+0200
TZOFFSETTO:+0300
TZNAME:EEST
DTSTART:20250330T010000
END:DAYLIGHT
BEGIN:STANDARD
TZOFFSETFROM:+0300
TZOFFSETTO:+0200
TZNAME:EET
DTSTART:20251026T010000
END:STANDARD
BEGIN:DAYLIGHT
TZOFFSETFROM:+0200
TZOFFSETTO:+0300
TZNAME:EEST
DTSTART:20260329T010000
END:DAYLIGHT
BEGIN:STANDARD
TZOFFSETFROM:+0300
TZOFFSETTO:+0200
TZNAME:EET
DTSTART:20261025T010000
END:STANDARD
END:VTIMEZONE
BEGIN:VEVENT
DTSTART;VALUE=DATE:20250922
DTEND;VALUE=DATE:20251013
DTSTAMP:20260420T041846
CREATED:20250815T093215Z
LAST-MODIFIED:20250919T090239Z
UID:10000477-1758499200-1760313599@tahkospa.fi
SUMMARY:Ruskaviikot
DESCRIPTION:Kolme viikkoa kestävät ruskaviikot Tahkolla tarjoavat joka viikonpäivälle elämyksiä: musiikkia\, huumoria\, luontoelämyksiä\, aktiviteetteja sekä rentoa yhdessäoloa ruskan värittämässä ympäristössä. \nOhjelmassa on mm. iltapäivätansseja\, stand-upia\, after ski -henkeä\, ohjattuja tislaamoretkiä\, viiniä ja virkkausta\, karaokea\, lautapelejä ja luontoretkiä. Tahko Spa tarjoaa viikottaisia ryhmäliikuntatunteja sekä kynttiläuinteja ja teemakeilauksia. \nTahko Span viikko-ohjelma 22.9.-10.10.: \nMaanantai \n\n18.00–18.30 Äänimaljarentoutus | Tahko Spa\n\nKeskiviikko \n\n14.00–14.40 Vesijumppa | Tahko Spa | Kylpylämaksu erikseen\n\nTorstai \n\n10.10–10.40 Keppijumppa | Tahko Spa\n16.00 Bingo | Tahko Spa | Ilmainen\, palkintoja voittajille\n\nPerjantai \n\n15.00–20.00 Hohtokeilaus – teemailta | Tahko Spa | 30 €/rata/h + kenkävuokra 3 €/pelaaja\n17.00–20.00 Kynttiläuinti | Tahko Spa | Tunnelmallinen kynttiläuinti normaali sisäänpääsyn hinnalla\, suositusikäraja 18\n\nLauantai \n\n10.00–10.45 Yin-jooga + äänimaljarentoutus | Tahko Spa\n\nIlmottaudu mukaan eri ryhmäliikuntatunneille täältä. \nTutustu koko Tahkon alueen ohjelmaan täältä.  \nMajoitustarjoukset: \nHyödynnä ruskaviikkojen aikana kolme yötä kahden hinnalla tai arkitarjousta: 150€ / kaksi yötä. 
URL:https://tahkospa.fi/tapahtuma/ruskaviikot/
ATTACH;FMTTYPE=image/jpeg:https://tahkospa.fi/wp-content/uploads/2025/08/pexels-photo-235767-235767-scaled.jpg
END:VEVENT
BEGIN:VEVENT
DTSTART;TZID=Europe/Helsinki:20251010T100000
DTEND;TZID=Europe/Helsinki:20251010T130000
DTSTAMP:20260420T041846
CREATED:20250918T075139Z
LAST-MODIFIED:20260312T102211Z
UID:10000070-1760090400-1760101200@tahkospa.fi
SUMMARY:SuperPark Tahko: Muksuaamu
DESCRIPTION:Muksu on 3-6 vuotias lapsi ja muksuaamu on SuperCorner Tahkon sesonkiaikojen tarjous pienten lasten perheille 1-3 kertaa viikossa.  Kaiken ikäiset ovat tervetulleita puistoon muksuaamuna\, mutta suosimme alle kouluikäisten perheitä hinnoittelussa. Muksuaamun hinta on 19 € / alle kouluikäinen muksu + täysi-ikäinen huoltaja. Lisämuksu tai toinen aikuinen pääsevät muksuaamuun kympillä. Liput ovat Teho 2h rannekkeita. \nMuksuaamu kestää 3 tuntia: Aamu alkaa klo 10 ja päättyy klo 13.  Lippuja myydään vain Tahko Span vastaanottotiskiltä. Muksuaamujen lippujen myyntiaika on rajattu 10:00 -11:30.
URL:https://tahkospa.fi/tapahtuma/superpark-tahko-muksuaamu-2/2025-10-10/
ATTACH;FMTTYPE=image/jpeg:https://tahkospa.fi/wp-content/uploads/2025/05/A7C03666_crop-1024x683-1.jpg
END:VEVENT
BEGIN:VEVENT
DTSTART;TZID=Europe/Helsinki:20251010T150000
DTEND;TZID=Europe/Helsinki:20251010T210000
DTSTAMP:20260420T041846
CREATED:20250828T081303Z
LAST-MODIFIED:20250828T081303Z
UID:10000542-1760108400-1760130000@tahkospa.fi
SUMMARY:Suomipop -teemakeilaus
DESCRIPTION:Parhaat suomipop-biisit\, rento tunnelma ja tarjoushinnat radalla! \nKeilaradat vain 30€ / rata + kenkävuokra 3€ / hlö. \nVaraa rata täältä tai Tahko Span vastaanotosta.
URL:https://tahkospa.fi/tapahtuma/suomipop-teemakeilaus-2/2025-10-10/
ATTACH;FMTTYPE=image/jpeg:https://tahkospa.fi/wp-content/uploads/2024/09/keilaus_webreso-4.jpg
END:VEVENT
BEGIN:VEVENT
DTSTART;TZID=Europe/Helsinki:20251010T170000
DTEND;TZID=Europe/Helsinki:20251010T190000
DTSTAMP:20260420T041846
CREATED:20250918T065746Z
LAST-MODIFIED:20260417T122429Z
UID:10000589-1760115600-1760122800@tahkospa.fi
SUMMARY:SuperPark Tahko: Sparkle-ilta
DESCRIPTION:SuperParkin Sparkle-ilta on lasten ja nuorten omat afterski-bileet! \nNimensä mukaisesti illat ovat täynnä menoa ja meininkiä\, värivaloja sekä musiikkia. Illan aikana tehdään kasvomaalauksia\, opetellaan temppuja benjitrampalla\, pompitaan valotrampoilla\, järjestetään leikkimielisiä kisailuja sekä hypätään köysiradalta ja trapetsilta foam-altaaseen. \nPääsylippu pelkkään Sparkle -iltaan 15 €. \nSuperPark päivä- tai osapäivälipun hankkineille ja SuperParkin kausikortti superiin sisäänpääsy kuuluu hankitun lipun hintaan. Arkikausikortin käyttäjä pääsee sisään loma-aikoina 5 € lisämaksulla.
URL:https://tahkospa.fi/tapahtuma/superpark-tahko-sparkle-ilta-2/2025-10-10/
ATTACH;FMTTYPE=image/jpeg:https://tahkospa.fi/wp-content/uploads/2025/05/A7C01587_crop-1024x683-2.jpg
END:VEVENT
END:VCALENDAR