BEGIN:VCALENDAR
VERSION:2.0
PRODID:-//Tahko Spa Hotel - ECPv6.15.20//NONSGML v1.0//EN
CALSCALE:GREGORIAN
METHOD:PUBLISH
X-WR-CALNAME:Tahko Spa Hotel
X-ORIGINAL-URL:https://tahkospa.fi
X-WR-CALDESC:Tapahtumat Tahko Spa Hotel
REFRESH-INTERVAL;VALUE=DURATION:PT1H
X-Robots-Tag:noindex
X-PUBLISHED-TTL:PT1H
BEGIN:VTIMEZONE
TZID:Europe/Helsinki
BEGIN:DAYLIGHT
TZOFFSETFROM:+0200
TZOFFSETTO:+0300
TZNAME:EEST
DTSTART:20240331T010000
END:DAYLIGHT
BEGIN:STANDARD
TZOFFSETFROM:+0300
TZOFFSETTO:+0200
TZNAME:EET
DTSTART:20241027T010000
END:STANDARD
BEGIN:DAYLIGHT
TZOFFSETFROM:+0200
TZOFFSETTO:+0300
TZNAME:EEST
DTSTART:20250330T010000
END:DAYLIGHT
BEGIN:STANDARD
TZOFFSETFROM:+0300
TZOFFSETTO:+0200
TZNAME:EET
DTSTART:20251026T010000
END:STANDARD
BEGIN:DAYLIGHT
TZOFFSETFROM:+0200
TZOFFSETTO:+0300
TZNAME:EEST
DTSTART:20260329T010000
END:DAYLIGHT
BEGIN:STANDARD
TZOFFSETFROM:+0300
TZOFFSETTO:+0200
TZNAME:EET
DTSTART:20261025T010000
END:STANDARD
END:VTIMEZONE
BEGIN:VEVENT
DTSTART;VALUE=DATE:20251013
DTEND;VALUE=DATE:20251027
DTSTAMP:20260420T024814
CREATED:20250815T084319Z
LAST-MODIFIED:20250919T094045Z
UID:10000475-1760313600-1761523199@tahkospa.fi
SUMMARY:Tahko Span ohjelma syyslomille - sporttia\, hauskanpitoa ja koruja!
DESCRIPTION:Syyslomalla Tahko Spa liikuttaa ja viihdyttää!\nRyhmäliikuntatunneista koko perheen peleihin ja puuhapajoihin – löydä omat suosikkisi ja nauti aktiivisesta lomasta yhdessä. \nRyhmäliikuntatunnit\nViikko 42 \n\nMa klo 17.00–17.30 – Äänimaljarentoutus\nTi klo 11.00–11.45 – Reggaeton-tanssitunti\nKe klo 17.00–18.00 – Yin-jooga + äänimaljarentoutus\nPe klo 11.15–12.00 – Tehotreeni\nLa klo 10.10–10.40 – Kristallimaljarentoutus (uutuus)\n\nViikko 43 \n\nMa klo 17.00–17.30 – Äänimaljarentoutus\nKe klo 17.00–18.00 – Yin-jooga + äänimaljarentoutus\nPe klo 11.15–12.00 – Reggaeton-tanssitunti\nLa klo 10.10–10.40 – Äänimaljarentoutus\n\nIlmottaudu mukaan ryhmäliikuntatunneille täältä. \n\nKoko perheen aktiviteetit\nPäivittäin \n\nKeilaus Happy Hour klo 12.00–13.00 – 25\,00 €/rata/tunti\nTahko Spa Korupaja klo 10.00–18.00 – 5\,00 € / hlö (sis. tarvikkeet 3 koruun)\n\nTiistaisin \n\nklo 15.00 – Perhebingo\, Ravintola Riemu (ilmainen)\nklo 16.00 – Lasten puttikisa Glow Golf\, Tahko Spa – 5\,00 € / hlö\n\nTorstaisin \n\nklo 15.00 – Musavisa\, Ravintola Riemu\n\n\nSuperParkin tapahtumat\nSparkle-illat eli lasten ja nuorten omat bileet  \n\npe 17.10. klo 18–20\npe 24.10. klo 17–19\n\nMuksuaamut \n\nto 16.10. klo 10–13\nma 20.10. klo 10–13\n\nSuperyö – jättiyökylä SuperParkissa! \n\nsyyslomaviikolla ti–ke 14.–15.10.\n\nRiemupäivä Tahko Spalla \n\n18.10.2025\n\nLue lisää SuperParkin tapahtumista täältä.  \n 
URL:https://tahkospa.fi/tapahtuma/syyslomat/
ATTACH;FMTTYPE=image/jpeg:https://tahkospa.fi/wp-content/uploads/2021/10/Syksy_2018_Annika_13-scaled.jpg
END:VEVENT
BEGIN:VEVENT
DTSTART;TZID=Europe/Helsinki:20251018T100000
DTEND;TZID=Europe/Helsinki:20251018T110000
DTSTAMP:20260420T024814
CREATED:20251008T153402Z
LAST-MODIFIED:20251008T153402Z
UID:10000578-1760781600-1760785200@tahkospa.fi
SUMMARY:Kristallimaljarentoutus klo 10:10-10:40 - UUTUUS!
DESCRIPTION:Kristallimaljarentoutus on syvärentouttava tunti\, jossa soitetaan kvartsikristallista tehtyjä maljoja\, jotka tuottavat lempeitä ja värähteleviä ääniä. \n\n\n\n\n\n\n\nTunnit ohjaa kokenut Amanda Taskinen – koulutettu Personal Trainer\, äitiysliikuntaneuvoja ja äänimaljahoitaja\, jonka energinen ja lempeä ote saa jokaisen viihtymään. \nVaraa paikkasi helposti Tahko Span vastaanotosta tai suoraan täältä.  Ilmoittaudu viimeistään klo 18 edellisenä iltana – saman päivän paikat saat sähköpostilla: amanda.taskinen@outlook.com. \nHinta vain 10 € / tunti / hlö – maksu Tahko Span vastaanottoon ennen tuntia. Vesijumppatunnille on ostettava lippu allasosastolle erikseen.
URL:https://tahkospa.fi/tapahtuma/kristallimaljarentoutus-klo-1010-1040-uutuus/2025-10-18/
ATTACH;FMTTYPE=image/jpeg:https://tahkospa.fi/wp-content/uploads/2025/10/pexels-photo-32633637-32633637-scaled.jpg
END:VEVENT
BEGIN:VEVENT
DTSTART;TZID=Europe/Helsinki:20251018T100000
DTEND;TZID=Europe/Helsinki:20251018T193000
DTSTAMP:20260420T024814
CREATED:20250527T212236Z
LAST-MODIFIED:20251207T143951Z
UID:10000071-1760781600-1760815800@tahkospa.fi
SUMMARY:Riemupäivä SuperParkissa
DESCRIPTION:Heittäydy hauskanpitoon! \nOhjelmaa SuperParkissa klo 12-18. Puisto auki 10-19 (tramppa-alue 11-19). \nIlmoittautuminen kisailuihin ja seikkailuun paikan päällä. \nMukaan pääset hankkimalla sisäänpääsyrannekkeen: 2h / 17 €\, 4h / 19 €  tai koko päivä 21 €. \nOhjelma \nklo 12  trapetsi\nklo 12:30 kasvomaalaus\nklo 12:45 benjitramppa\nklo 13 köysiliukurata\nklo 13:30 trapetsi\nklo 14 kasvomaalaus\nklo 14:30 korkeushyppykisa\nklo 15 köysiliukurata\nklo 15:30 kasvomaalaus\nklo 15:45 benjitramppa\nklo 16:00 Stepperikisa\nklo 16:30 trapetsi\nklo 16:45 benjitramppa\nklo 16:30 -17:30 Valotrampat\nklo 17 köysiliukurata \nKäy samalla reissulla myös syömässä Riemun herkkuburgeri\, heitä keiloja kumoon keilahallissa\, ota hiki pintaan kuntosalilla tai pulahda allasosaston poreisiin!
URL:https://tahkospa.fi/tapahtuma/riemupaiva-superparkissa/2025-10-18/
ATTACH;FMTTYPE=image/jpeg:https://tahkospa.fi/wp-content/uploads/2025/05/RIEMUPaIVa_1920x1080-1024x576-1.jpg
END:VEVENT
END:VCALENDAR