BEGIN:VCALENDAR
VERSION:2.0
PRODID:-//Tahko Spa Hotel - ECPv6.15.20//NONSGML v1.0//EN
CALSCALE:GREGORIAN
METHOD:PUBLISH
X-ORIGINAL-URL:https://tahkospa.fi
X-WR-CALDESC:Tapahtumat Tahko Spa Hotel
REFRESH-INTERVAL;VALUE=DURATION:PT1H
X-Robots-Tag:noindex
X-PUBLISHED-TTL:PT1H
BEGIN:VTIMEZONE
TZID:Europe/Helsinki
BEGIN:DAYLIGHT
TZOFFSETFROM:+0200
TZOFFSETTO:+0300
TZNAME:EEST
DTSTART:20240331T010000
END:DAYLIGHT
BEGIN:STANDARD
TZOFFSETFROM:+0300
TZOFFSETTO:+0200
TZNAME:EET
DTSTART:20241027T010000
END:STANDARD
BEGIN:DAYLIGHT
TZOFFSETFROM:+0200
TZOFFSETTO:+0300
TZNAME:EEST
DTSTART:20250330T010000
END:DAYLIGHT
BEGIN:STANDARD
TZOFFSETFROM:+0300
TZOFFSETTO:+0200
TZNAME:EET
DTSTART:20251026T010000
END:STANDARD
BEGIN:DAYLIGHT
TZOFFSETFROM:+0200
TZOFFSETTO:+0300
TZNAME:EEST
DTSTART:20260329T010000
END:DAYLIGHT
BEGIN:STANDARD
TZOFFSETFROM:+0300
TZOFFSETTO:+0200
TZNAME:EET
DTSTART:20261025T010000
END:STANDARD
END:VTIMEZONE
BEGIN:VEVENT
DTSTART;TZID=Europe/Helsinki:20251115T100000
DTEND;TZID=Europe/Helsinki:20251115T110000
DTSTAMP:20260420T013007
CREATED:20251008T161151Z
LAST-MODIFIED:20251119T191343Z
UID:10000585-1763200800-1763204400@tahkospa.fi
SUMMARY:Yin-jooga + äänimaljarentoutus
DESCRIPTION:Yin-jooga on palauttava ja rauhoittava joogamuoto\, kun taas äänimaljarentoutus rentouttaa koko kehon äänimaljan sointujen myötä. \nTunnit ohjaa ihana Amanda Taskinen – koulutettu Personal Trainer\, äitiysliikuntaneuvoja ja mm. äänimaljahoitaja.  \nIlmottaudu tunneille Tahko Span vastaanotosta tai täältä. Ilmoittautuminen viim. klo 18 edellisenä iltana. \n\nHinta 12€ / tunti per henkilö (meillä majoittuville 10€ / hlö) – maksu Tahko Span vastaanottoon.
URL:https://tahkospa.fi/tapahtuma/yin-jooga-aanimaljarentoutus/2025-11-15/
ATTACH;FMTTYPE=image/jpeg:https://tahkospa.fi/wp-content/uploads/2025/10/g89779a7bd8eaa6e9eaa9bf908a2a58ef63fb4313af42c7d4109519a9997c5ce28c31e7f73658560ef1e9f6ed557651c3_1280-235269.jpg
END:VEVENT
END:VCALENDAR