BEGIN:VCALENDAR
VERSION:2.0
PRODID:-//Tahko Spa Hotel - ECPv6.15.20//NONSGML v1.0//EN
CALSCALE:GREGORIAN
METHOD:PUBLISH
X-WR-CALNAME:Tahko Spa Hotel
X-ORIGINAL-URL:https://tahkospa.fi
X-WR-CALDESC:Tapahtumat Tahko Spa Hotel
REFRESH-INTERVAL;VALUE=DURATION:PT1H
X-Robots-Tag:noindex
X-PUBLISHED-TTL:PT1H
BEGIN:VTIMEZONE
TZID:Europe/Helsinki
BEGIN:DAYLIGHT
TZOFFSETFROM:+0200
TZOFFSETTO:+0300
TZNAME:EEST
DTSTART:20240331T010000
END:DAYLIGHT
BEGIN:STANDARD
TZOFFSETFROM:+0300
TZOFFSETTO:+0200
TZNAME:EET
DTSTART:20241027T010000
END:STANDARD
BEGIN:DAYLIGHT
TZOFFSETFROM:+0200
TZOFFSETTO:+0300
TZNAME:EEST
DTSTART:20250330T010000
END:DAYLIGHT
BEGIN:STANDARD
TZOFFSETFROM:+0300
TZOFFSETTO:+0200
TZNAME:EET
DTSTART:20251026T010000
END:STANDARD
BEGIN:DAYLIGHT
TZOFFSETFROM:+0200
TZOFFSETTO:+0300
TZNAME:EEST
DTSTART:20260329T010000
END:DAYLIGHT
BEGIN:STANDARD
TZOFFSETFROM:+0300
TZOFFSETTO:+0200
TZNAME:EET
DTSTART:20261025T010000
END:STANDARD
END:VTIMEZONE
BEGIN:VEVENT
DTSTART;VALUE=DATE:20251206
DTEND;VALUE=DATE:20251207
DTSTAMP:20260420T012010
CREATED:20251017T101544Z
LAST-MODIFIED:20251202T141920Z
UID:10000662-1764979200-1765065599@tahkospa.fi
SUMMARY:Joulumyyjäiset Tahko Spalla ✨
DESCRIPTION:Joulun tunnelma valtaa Tahko Span lauantaina 6.12. klo 10-16! Myyntipöydiltä löydät monipuolisen valikoiman käsitöitä\, laadukkaita vaatteita sekä koruja – sekä alueen omien tekijöiden tuotteita että yhteistyökumppaneiden tarjontaa. \n🎁 Tiedossa on:\n🕯️ Kauniita käsitöitä ja herkkuja pukinkonttiin\n☕ Talo tarjoaa glögit klo 10-12\n🎅🏻 Joulupukki vierailulla klo 11-12\n💘Arvonta paikan päällä – voita inbodymittaus\, intialainen päähieronta 30 min sekä lippu allasosastolle\n🥣 Joulupuuroa by Ravintola Riemu klo 10> niin kauan kuin puuroa riittää\, 5€ annos\n🐴 Poniratsastusta klo 10-12\, 5€ kyyti \nLisäksi samana päivänä Tahko Spassa:\n💙 Rentoudutaan yin-jooga+äänimaljarentoutuksessa klo 10:00-10:45\, ilmottaudu mukaan täältä\n💜 Vietetään Riemupäivää SuperPark Tahkossa klo 12-19 \nOlitpa sitten lahjojen etsijä\, herkkusuu tai vain joulutunnelman ystävä\, tervetuloa tekemään löytöjä ja nauttimaan myyjäisistä! \nLämpimästi tervetuloa viihtymään ja tekemään ainutlaatuisia jouluostoksia kanssamme! 🌟
URL:https://tahkospa.fi/tapahtuma/joulumyyjaiset-tahko-spalla-%e2%9c%a8/
ATTACH;FMTTYPE=image/jpeg:https://tahkospa.fi/wp-content/uploads/2025/10/pexels-photo-1701531-1701531-scaled.jpg
END:VEVENT
BEGIN:VEVENT
DTSTART;TZID=Europe/Helsinki:20251206T100000
DTEND;TZID=Europe/Helsinki:20251206T103000
DTSTAMP:20260420T012010
CREATED:20251008T161151Z
LAST-MODIFIED:20251119T191343Z
UID:10000665-1765015200-1765017000@tahkospa.fi
SUMMARY:Yin-jooga + äänimaljarentoutus
DESCRIPTION:Yin-jooga on palauttava ja rauhoittava joogamuoto\, kun taas äänimaljarentoutus rentouttaa koko kehon äänimaljan sointujen myötä. \nTunnit ohjaa ihana Amanda Taskinen – koulutettu Personal Trainer\, äitiysliikuntaneuvoja ja mm. äänimaljahoitaja.  \nIlmottaudu tunneille Tahko Span vastaanotosta tai täältä. Ilmoittautuminen viim. klo 18 edellisenä iltana. \n\nHinta 12€ / tunti per henkilö (meillä majoittuville 10€ / hlö) – maksu Tahko Span vastaanottoon.
URL:https://tahkospa.fi/tapahtuma/yin-jooga-aanimaljarentoutus/2025-12-06/
ATTACH;FMTTYPE=image/jpeg:https://tahkospa.fi/wp-content/uploads/2025/10/g89779a7bd8eaa6e9eaa9bf908a2a58ef63fb4313af42c7d4109519a9997c5ce28c31e7f73658560ef1e9f6ed557651c3_1280-235269.jpg
END:VEVENT
BEGIN:VEVENT
DTSTART;TZID=Europe/Helsinki:20251206T120000
DTEND;TZID=Europe/Helsinki:20251206T190000
DTSTAMP:20260420T012010
CREATED:20250527T212236Z
LAST-MODIFIED:20251207T143951Z
UID:10000655-1765022400-1765047600@tahkospa.fi
SUMMARY:Riemupäivä SuperParkissa
DESCRIPTION:Heittäydy hauskanpitoon! \nOhjelmaa SuperParkissa klo 12-18. Puisto auki 10-19 (tramppa-alue 11-19). \nIlmoittautuminen kisailuihin ja seikkailuun paikan päällä. \nMukaan pääset hankkimalla sisäänpääsyrannekkeen: 2h / 17 €\, 4h / 19 €  tai koko päivä 21 €. \nOhjelma \nklo 12  trapetsi\nklo 12:30 kasvomaalaus\nklo 12:45 benjitramppa\nklo 13 köysiliukurata\nklo 13:30 trapetsi\nklo 14 kasvomaalaus\nklo 14:30 korkeushyppykisa\nklo 15 köysiliukurata\nklo 15:30 kasvomaalaus\nklo 15:45 benjitramppa\nklo 16:00 Stepperikisa\nklo 16:30 trapetsi\nklo 16:45 benjitramppa\nklo 16:30 -17:30 Valotrampat\nklo 17 köysiliukurata \nKäy samalla reissulla myös syömässä Riemun herkkuburgeri\, heitä keiloja kumoon keilahallissa\, ota hiki pintaan kuntosalilla tai pulahda allasosaston poreisiin!
URL:https://tahkospa.fi/tapahtuma/riemupaiva-superparkissa/2025-12-06/
ATTACH;FMTTYPE=image/jpeg:https://tahkospa.fi/wp-content/uploads/2025/05/RIEMUPaIVa_1920x1080-1024x576-1.jpg
END:VEVENT
END:VCALENDAR