BEGIN:VCALENDAR
VERSION:2.0
PRODID:-//Tahko Spa Hotel - ECPv6.15.20//NONSGML v1.0//EN
CALSCALE:GREGORIAN
METHOD:PUBLISH
X-WR-CALNAME:Tahko Spa Hotel
X-ORIGINAL-URL:https://tahkospa.fi
X-WR-CALDESC:Tapahtumat Tahko Spa Hotel
REFRESH-INTERVAL;VALUE=DURATION:PT1H
X-Robots-Tag:noindex
X-PUBLISHED-TTL:PT1H
BEGIN:VTIMEZONE
TZID:Europe/Helsinki
BEGIN:DAYLIGHT
TZOFFSETFROM:+0200
TZOFFSETTO:+0300
TZNAME:EEST
DTSTART:20240331T010000
END:DAYLIGHT
BEGIN:STANDARD
TZOFFSETFROM:+0300
TZOFFSETTO:+0200
TZNAME:EET
DTSTART:20241027T010000
END:STANDARD
BEGIN:DAYLIGHT
TZOFFSETFROM:+0200
TZOFFSETTO:+0300
TZNAME:EEST
DTSTART:20250330T010000
END:DAYLIGHT
BEGIN:STANDARD
TZOFFSETFROM:+0300
TZOFFSETTO:+0200
TZNAME:EET
DTSTART:20251026T010000
END:STANDARD
BEGIN:DAYLIGHT
TZOFFSETFROM:+0200
TZOFFSETTO:+0300
TZNAME:EEST
DTSTART:20260329T010000
END:DAYLIGHT
BEGIN:STANDARD
TZOFFSETFROM:+0300
TZOFFSETTO:+0200
TZNAME:EET
DTSTART:20261025T010000
END:STANDARD
END:VTIMEZONE
BEGIN:VEVENT
DTSTART;VALUE=DATE:20251221
DTEND;VALUE=DATE:20251225
DTSTAMP:20260420T000631
CREATED:20251202T102959Z
LAST-MODIFIED:20251202T102959Z
UID:10000669-1766275200-1766620799@tahkospa.fi
SUMMARY:Tonttujahti
DESCRIPTION:Tonttuja on piilotettu ympäri Tahko Spata – etsi tonttu ja voita pieni palkinto! Vakiosuosikki perheen pienimmille. 🎅🏻
URL:https://tahkospa.fi/tapahtuma/tonttujahti/
ATTACH;FMTTYPE=image/jpeg:https://tahkospa.fi/wp-content/uploads/2025/12/pexels-photo-34994002-34994002-scaled.jpg
END:VEVENT
BEGIN:VEVENT
DTSTART;VALUE=DATE:20251221
DTEND;VALUE=DATE:20251225
DTSTAMP:20260420T000631
CREATED:20251202T110516Z
LAST-MODIFIED:20251202T110516Z
UID:10000670-1766275200-1766620799@tahkospa.fi
SUMMARY:Piirrustuskilpailu Tahko Spassa
DESCRIPTION:Jouluteemainen piirrustuskilpailu perheen pienimmille. Paras piirrustus palkitaan!
URL:https://tahkospa.fi/tapahtuma/piirrustuskilpailu-tahko-spassa/
ATTACH;FMTTYPE=image/jpeg:https://tahkospa.fi/wp-content/uploads/2025/12/pexels-photo-1708601-1708601-scaled.jpg
END:VEVENT
BEGIN:VEVENT
DTSTART;VALUE=DATE:20251221
DTEND;VALUE=DATE:20251225
DTSTAMP:20260420T000631
CREATED:20251202T111015Z
LAST-MODIFIED:20251202T111015Z
UID:10000671-1766275200-1766620799@tahkospa.fi
SUMMARY:Korujen tekoa Spalla
DESCRIPTION:Tervetuloa kokoamaan koru vaikka joululahjaksi tai muistoksi Tahkon reissusta! Hinta 5€ (sis. tarvikkeet kahteen koruun). \nJos varasit majoituksen suoraan meidän kautta\, korujen teko on ilmaista.
URL:https://tahkospa.fi/tapahtuma/korujen-tekoa-spalla/
ATTACH;FMTTYPE=image/jpeg:https://tahkospa.fi/wp-content/uploads/2025/12/pexels-photo-10474305-10474305-scaled.jpg
END:VEVENT
BEGIN:VEVENT
DTSTART;VALUE=DATE:20251224
DTEND;VALUE=DATE:20251225
DTSTAMP:20260420T000631
CREATED:20251202T150434Z
LAST-MODIFIED:20251202T150434Z
UID:10000682-1766534400-1766620799@tahkospa.fi
SUMMARY:Ravintola Riemun joulubuffet klo 16:30 & 17:00
DESCRIPTION:Nauti valmiista joulupöydästä ja rentoudu juhlatunnelmissa Ravintola Riemun joulubuffetissa jouluaattona 24.12. Kattaukset järjestetään klo 16.30 ja 17.00. 🎅🏻\n\nTutustu menuun täältä. \n\nHinnoittelu:\n\n 	45\,00€ / aikuinen\n 	25\,00€ / 10-12v.\n 	15\,00€ / 4-10v.\n\nOsta buffet joko majoituksen oston yhteydessä verkkovaraamostamme tai sähköpostitse info@ravintolariemu.fi\n\n \n\n 
URL:https://tahkospa.fi/tapahtuma/ravintola-riemun-joulubuffet-klo-1630-1700/
ATTACH;FMTTYPE=image/jpeg:https://tahkospa.fi/wp-content/uploads/2025/12/pexels-photo-196648-196648-scaled.jpg
END:VEVENT
BEGIN:VEVENT
DTSTART;TZID=Europe/Helsinki:20251224T150000
DTEND;TZID=Europe/Helsinki:20251224T153000
DTSTAMP:20260420T000631
CREATED:20251202T113137Z
LAST-MODIFIED:20251209T130453Z
UID:10000676-1766588400-1766590200@tahkospa.fi
SUMMARY:Joulupukki vierailulla Tahko Spalla
DESCRIPTION:Joulupukki vierailee myös Tahko Spalla jouluaattona. Joulupukki voi jakaa lahjoja lapsillesi – tuothan lahjat viim. klo 14:00 Tahko Spalle\, jotta saamme jaettua lahjat.
URL:https://tahkospa.fi/tapahtuma/joulupukki-vierailulla-tahko-spalla/
ATTACH;FMTTYPE=image/jpeg:https://tahkospa.fi/wp-content/uploads/2025/12/g366401d246efd6301420f9ca6ad38562f92ff333d92bd60d62810c770912db9eeb9a5a0edc00802b9b267279820d1a3fc9d3feede5ce54eb1fbefad13e756c52_1280-2466242.jpg
END:VEVENT
END:VCALENDAR