BEGIN:VCALENDAR
VERSION:2.0
PRODID:-//Tahko Spa Hotel - ECPv6.15.20//NONSGML v1.0//EN
CALSCALE:GREGORIAN
METHOD:PUBLISH
X-WR-CALNAME:Tahko Spa Hotel
X-ORIGINAL-URL:https://tahkospa.fi
X-WR-CALDESC:Tapahtumat Tahko Spa Hotel
REFRESH-INTERVAL;VALUE=DURATION:PT1H
X-Robots-Tag:noindex
X-PUBLISHED-TTL:PT1H
BEGIN:VTIMEZONE
TZID:Europe/Helsinki
BEGIN:DAYLIGHT
TZOFFSETFROM:+0200
TZOFFSETTO:+0300
TZNAME:EEST
DTSTART:20240331T010000
END:DAYLIGHT
BEGIN:STANDARD
TZOFFSETFROM:+0300
TZOFFSETTO:+0200
TZNAME:EET
DTSTART:20241027T010000
END:STANDARD
BEGIN:DAYLIGHT
TZOFFSETFROM:+0200
TZOFFSETTO:+0300
TZNAME:EEST
DTSTART:20250330T010000
END:DAYLIGHT
BEGIN:STANDARD
TZOFFSETFROM:+0300
TZOFFSETTO:+0200
TZNAME:EET
DTSTART:20251026T010000
END:STANDARD
BEGIN:DAYLIGHT
TZOFFSETFROM:+0200
TZOFFSETTO:+0300
TZNAME:EEST
DTSTART:20260329T010000
END:DAYLIGHT
BEGIN:STANDARD
TZOFFSETFROM:+0300
TZOFFSETTO:+0200
TZNAME:EET
DTSTART:20261025T010000
END:STANDARD
END:VTIMEZONE
BEGIN:VEVENT
DTSTART;TZID=Europe/Helsinki:20251226T100000
DTEND;TZID=Europe/Helsinki:20251226T130000
DTSTAMP:20260420T000704
CREATED:20250918T075139Z
LAST-MODIFIED:20260312T102211Z
UID:10000651-1766743200-1766754000@tahkospa.fi
SUMMARY:SuperPark Tahko: Muksuaamu
DESCRIPTION:Muksu on 3-6 vuotias lapsi ja muksuaamu on SuperCorner Tahkon sesonkiaikojen tarjous pienten lasten perheille 1-3 kertaa viikossa.  Kaiken ikäiset ovat tervetulleita puistoon muksuaamuna\, mutta suosimme alle kouluikäisten perheitä hinnoittelussa. Muksuaamun hinta on 19 € / alle kouluikäinen muksu + täysi-ikäinen huoltaja. Lisämuksu tai toinen aikuinen pääsevät muksuaamuun kympillä. Liput ovat Teho 2h rannekkeita. \nMuksuaamu kestää 3 tuntia: Aamu alkaa klo 10 ja päättyy klo 13.  Lippuja myydään vain Tahko Span vastaanottotiskiltä. Muksuaamujen lippujen myyntiaika on rajattu 10:00 -11:30.
URL:https://tahkospa.fi/tapahtuma/superpark-tahko-muksuaamu-2/2025-12-26/
ATTACH;FMTTYPE=image/jpeg:https://tahkospa.fi/wp-content/uploads/2025/05/A7C03666_crop-1024x683-1.jpg
END:VEVENT
BEGIN:VEVENT
DTSTART;TZID=Europe/Helsinki:20251226T120000
DTEND;TZID=Europe/Helsinki:20251226T130000
DTSTAMP:20260420T000704
CREATED:20251202T145948Z
LAST-MODIFIED:20251219T090702Z
UID:10000680-1766750400-1766754000@tahkospa.fi
SUMMARY:Tehotreeni 45 min
DESCRIPTION:Tehotreeni=koko vartalon läpikäyvä lihaskuntotunti. Tunnilla tehdään liikkeet omaan tahtiin ohjaajan opastuksella. Tunnin rakenne: alkulämmittely\, työosuus\, loppuverryttely. \nHinta: 12 € / 45 min / hlö (10€ Tahko Spassa majoittuville)\, maksu Tahko Span vastaanottoon. \nToteutus: Tunti järjestetään\, mikäli osallistujia on vähintään 4 – ilmoittautuminen lomakkeella on sitova. Mikäli tunti peruuntuu\, ilmoitamme siitä sähköpostitse tai puhelimitse. Tunti järjestetään Tahko Span alakerrassa\, ohjeet saat vastaanotosta. \nEnnen tuntia: Pukuhuoneet ovat käytettävissä ja et tarvitse paikalle muuta kuin itsesi – tule vain paikalle ja nauti. \n👉 Ilmottaudu mukaan täältä
URL:https://tahkospa.fi/tapahtuma/tehotreeni-45-min/2025-12-26/
ATTACH;FMTTYPE=image/jpeg:https://tahkospa.fi/wp-content/uploads/2025/12/pexels-photo-6740822-6740822-scaled.jpg
END:VEVENT
BEGIN:VEVENT
DTSTART;TZID=Europe/Helsinki:20251226T130000
DTEND;TZID=Europe/Helsinki:20251226T133000
DTSTAMP:20260420T000704
CREATED:20251206T131836Z
LAST-MODIFIED:20251206T131836Z
UID:10000686-1766754000-1766755800@tahkospa.fi
SUMMARY:Vesijumppa 30 min allasosastolla
DESCRIPTION:Tervetuloa mukaan matalan kynnyksen vesijumppaan Tahko Span allasosastolle. Tiedossa on hauskaa ja erilaista liikuntaa! \nHinta: 8€ / hlö + allasosastolippu erikseen \nIlmottaudu mukaan täältä \nToteutus: Tunti järjestetään\, mikäli osallistujia on vähintään 4 – ilmoittautuminen lomakkeella on sitova. Mikäli tunti peruuntuu\, ilmoitamme siitä sähköpostitse tai puhelimitse. Tunti järjestetään Tahko Spalla. Ohjeet annetaan vastaanotosta.
URL:https://tahkospa.fi/tapahtuma/vesijumppa-30-min-allasosastolla/2025-12-26/
ATTACH;FMTTYPE=image/jpeg:https://tahkospa.fi/wp-content/uploads/2025/03/tahkospa23_webreso-57.jpg
END:VEVENT
BEGIN:VEVENT
DTSTART;TZID=Europe/Helsinki:20251226T170000
DTEND;TZID=Europe/Helsinki:20251226T190000
DTSTAMP:20260420T000704
CREATED:20250918T065746Z
LAST-MODIFIED:20260417T122429Z
UID:10000600-1766768400-1766775600@tahkospa.fi
SUMMARY:SuperPark Tahko: Sparkle-ilta
DESCRIPTION:SuperParkin Sparkle-ilta on lasten ja nuorten omat afterski-bileet! \nNimensä mukaisesti illat ovat täynnä menoa ja meininkiä\, värivaloja sekä musiikkia. Illan aikana tehdään kasvomaalauksia\, opetellaan temppuja benjitrampalla\, pompitaan valotrampoilla\, järjestetään leikkimielisiä kisailuja sekä hypätään köysiradalta ja trapetsilta foam-altaaseen. \nPääsylippu pelkkään Sparkle -iltaan 15 €. \nSuperPark päivä- tai osapäivälipun hankkineille ja SuperParkin kausikortti superiin sisäänpääsy kuuluu hankitun lipun hintaan. Arkikausikortin käyttäjä pääsee sisään loma-aikoina 5 € lisämaksulla.
URL:https://tahkospa.fi/tapahtuma/superpark-tahko-sparkle-ilta-2/2025-12-26/
ATTACH;FMTTYPE=image/jpeg:https://tahkospa.fi/wp-content/uploads/2025/05/A7C01587_crop-1024x683-2.jpg
END:VEVENT
BEGIN:VEVENT
DTSTART;TZID=Europe/Helsinki:20251226T170000
DTEND;TZID=Europe/Helsinki:20251226T190000
DTSTAMP:20260420T000704
CREATED:20251202T151804Z
LAST-MODIFIED:20251202T151830Z
UID:10000549-1766768400-1766775600@tahkospa.fi
SUMMARY:Kynttiläuinti klo 17:00-20:00
DESCRIPTION:Sukella talvi-illan rauhaan ja nauti Tahko Span allasosaston tunnelmallisesta kynttiläuinnista. Altaiden reunat ja tila täyttyvät kynttilöiden lempeästä valosta ja kiire katoaa. Tämä ainutlaatuinen iltahetki on täydellinen rentoutumiseen ja arjen irtiottoon. \nAika: klo 17> Hinta: Normaali kylpylän sisäänpääsymaksuSuositusikäraja: 18 v
URL:https://tahkospa.fi/tapahtuma/kynttilauinti-klo-1700-2000-2-2/
ATTACH;FMTTYPE=image/jpeg:https://tahkospa.fi/wp-content/uploads/2025/08/pexels-photo-289770-289770-scaled.jpg
END:VEVENT
END:VCALENDAR