BEGIN:VCALENDAR
VERSION:2.0
PRODID:-//Tahko Spa Hotel - ECPv6.15.20//NONSGML v1.0//EN
CALSCALE:GREGORIAN
METHOD:PUBLISH
X-ORIGINAL-URL:https://tahkospa.fi
X-WR-CALDESC:Tapahtumat Tahko Spa Hotel
REFRESH-INTERVAL;VALUE=DURATION:PT1H
X-Robots-Tag:noindex
X-PUBLISHED-TTL:PT1H
BEGIN:VTIMEZONE
TZID:Europe/Helsinki
BEGIN:DAYLIGHT
TZOFFSETFROM:+0200
TZOFFSETTO:+0300
TZNAME:EEST
DTSTART:20240331T010000
END:DAYLIGHT
BEGIN:STANDARD
TZOFFSETFROM:+0300
TZOFFSETTO:+0200
TZNAME:EET
DTSTART:20241027T010000
END:STANDARD
BEGIN:DAYLIGHT
TZOFFSETFROM:+0200
TZOFFSETTO:+0300
TZNAME:EEST
DTSTART:20250330T010000
END:DAYLIGHT
BEGIN:STANDARD
TZOFFSETFROM:+0300
TZOFFSETTO:+0200
TZNAME:EET
DTSTART:20251026T010000
END:STANDARD
BEGIN:DAYLIGHT
TZOFFSETFROM:+0200
TZOFFSETTO:+0300
TZNAME:EEST
DTSTART:20260329T010000
END:DAYLIGHT
BEGIN:STANDARD
TZOFFSETFROM:+0300
TZOFFSETTO:+0200
TZNAME:EET
DTSTART:20261025T010000
END:STANDARD
END:VTIMEZONE
BEGIN:VEVENT
DTSTART;TZID=Europe/Helsinki:20251229T100000
DTEND;TZID=Europe/Helsinki:20251229T130000
DTSTAMP:20260419T221931
CREATED:20250918T075139Z
LAST-MODIFIED:20260312T102211Z
UID:10000652-1767002400-1767013200@tahkospa.fi
SUMMARY:SuperPark Tahko: Muksuaamu
DESCRIPTION:Muksu on 3-6 vuotias lapsi ja muksuaamu on SuperCorner Tahkon sesonkiaikojen tarjous pienten lasten perheille 1-3 kertaa viikossa.  Kaiken ikäiset ovat tervetulleita puistoon muksuaamuna\, mutta suosimme alle kouluikäisten perheitä hinnoittelussa. Muksuaamun hinta on 19 € / alle kouluikäinen muksu + täysi-ikäinen huoltaja. Lisämuksu tai toinen aikuinen pääsevät muksuaamuun kympillä. Liput ovat Teho 2h rannekkeita. \nMuksuaamu kestää 3 tuntia: Aamu alkaa klo 10 ja päättyy klo 13.  Lippuja myydään vain Tahko Span vastaanottotiskiltä. Muksuaamujen lippujen myyntiaika on rajattu 10:00 -11:30.
URL:https://tahkospa.fi/tapahtuma/superpark-tahko-muksuaamu-2/2025-12-29/
ATTACH;FMTTYPE=image/jpeg:https://tahkospa.fi/wp-content/uploads/2025/05/A7C03666_crop-1024x683-1.jpg
END:VEVENT
BEGIN:VEVENT
DTSTART;TZID=Europe/Helsinki:20251229T163000
DTEND;TZID=Europe/Helsinki:20251229T173000
DTSTAMP:20260419T221931
CREATED:20251202T112719Z
LAST-MODIFIED:20260124T090408Z
UID:10000674-1767025800-1767029400@tahkospa.fi
SUMMARY:Yin-jooga + äänimaljarentoutus 45 min
DESCRIPTION:Lempeä yin-harjoitus ja äänimaljojen rauhoittava sointi vievät sinut syvään rentoutumiseen. Tervetuloa hellimään kehoa ja mieltä! 💙 \nHinta: 12 € / 45 min / hlö (10€ Tahko Span kautta majoituksen varanneille)\, maksu Tahko Span vastaanottoon. \nToteutus: Tunti järjestetään\, mikäli osallistujia on vähintään 4 – ilmoittautuminen lomakkeella on sitova. Mikäli tunti peruuntuu\, ilmoitamme siitä sähköpostitse tai puhelimitse. Tunti järjestetään Tahko Span alakerrassa\, ohjeet saat vastaanotosta. \nEnnen tuntia: Pukuhuoneet ovat käytettävissä ja et tarvitse paikalle muuta kuin itsesi – tule paikalle ja nauti. \n👉 Ilmottaudu mukaan täältä \n  \n 
URL:https://tahkospa.fi/tapahtuma/yinjooga/2025-12-29/
ATTACH;FMTTYPE=image/jpeg:https://tahkospa.fi/wp-content/uploads/2025/12/pexels-photo-8391651-8391651-scaled.jpg
END:VEVENT
END:VCALENDAR