BEGIN:VCALENDAR
VERSION:2.0
PRODID:-//Tahko Spa Hotel - ECPv6.15.20//NONSGML v1.0//EN
CALSCALE:GREGORIAN
METHOD:PUBLISH
X-WR-CALNAME:Tahko Spa Hotel
X-ORIGINAL-URL:https://tahkospa.fi
X-WR-CALDESC:Tapahtumat Tahko Spa Hotel
REFRESH-INTERVAL;VALUE=DURATION:PT1H
X-Robots-Tag:noindex
X-PUBLISHED-TTL:PT1H
BEGIN:VTIMEZONE
TZID:Europe/Helsinki
BEGIN:DAYLIGHT
TZOFFSETFROM:+0200
TZOFFSETTO:+0300
TZNAME:EEST
DTSTART:20250330T010000
END:DAYLIGHT
BEGIN:STANDARD
TZOFFSETFROM:+0300
TZOFFSETTO:+0200
TZNAME:EET
DTSTART:20251026T010000
END:STANDARD
BEGIN:DAYLIGHT
TZOFFSETFROM:+0200
TZOFFSETTO:+0300
TZNAME:EEST
DTSTART:20260329T010000
END:DAYLIGHT
BEGIN:STANDARD
TZOFFSETFROM:+0300
TZOFFSETTO:+0200
TZNAME:EET
DTSTART:20261025T010000
END:STANDARD
BEGIN:DAYLIGHT
TZOFFSETFROM:+0200
TZOFFSETTO:+0300
TZNAME:EEST
DTSTART:20270328T010000
END:DAYLIGHT
BEGIN:STANDARD
TZOFFSETFROM:+0300
TZOFFSETTO:+0200
TZNAME:EET
DTSTART:20271031T010000
END:STANDARD
END:VTIMEZONE
BEGIN:VEVENT
DTSTART;TZID=Europe/Helsinki:20260214T080000
DTEND;TZID=Europe/Helsinki:20260307T170000
DTSTAMP:20260419T192259
CREATED:20260211T215035Z
LAST-MODIFIED:20260211T215035Z
UID:10000735-1771056000-1772902800@tahkospa.fi
SUMMARY:Hiihtolomien leikkimieliset keilakisat 🎳 💙
DESCRIPTION:Jokaisella hiihtolomaviikolla kisataan Tahkon keilauskuninkuudesta hohtokeilauksessa aina klo 11:00 eteenpäin. \nPääpalkintona 50€ majoituslahjakortti Tahko Spahan! \nIlmoitathan tuloksesi ja sähköpostiosoitteesi keilamestarille pelien jälkeen\, jotta olet mukana kisassa 🤩
URL:https://tahkospa.fi/tapahtuma/hiihtolomien-leikkimieliset-keilakisat-%f0%9f%8e%b3-%f0%9f%92%99/
ATTACH;FMTTYPE=image/jpeg:https://tahkospa.fi/wp-content/uploads/2024/09/keilaus_webreso-4.jpg
END:VEVENT
BEGIN:VEVENT
DTSTART;TZID=Europe/Helsinki:20260226T100000
DTEND;TZID=Europe/Helsinki:20260226T103000
DTSTAMP:20260419T192259
CREATED:20260128T180542Z
LAST-MODIFIED:20260211T065429Z
UID:10000714-1772100000-1772101800@tahkospa.fi
SUMMARY:Äänimaljarentoutus 30min
DESCRIPTION:Äänimaljojen rauhoittava sointi johdattaa sinut syvään rentoutumiseen ja auttaa hellimään sekä kehoa että mieltä. Tervetuloa pysähtymään ja rauhoittumaan ääniaaltojen lempeään kannatteluun. 💘 \n\n\n\n\n\n\nHinta: 10 € / 30 min / hlö (8€ Tahko Spassa majoittuville)\, maksu Tahko Span vastaanottoon. \nToteutus: Tunti järjestetään\, mikäli osallistujia on vähintään 4 – ilmoittautuminen lomakkeella on sitova. Mikäli tunti peruuntuu\, ilmoitamme siitä sähköpostitse tai puhelimitse. Tunti järjestetään Tahko Span alakerrassa\, ohjeet saat vastaanotosta. \nEnnen tuntia: Pukuhuoneet ovat käytettävissä ja et tarvitse paikalle muuta kuin itsesi – tule vain paikalle ja nauti. \n👉 Ilmottaudu mukaan täältä
URL:https://tahkospa.fi/tapahtuma/aanimaljarentoutus-30min/2026-02-26/
ATTACH;FMTTYPE=image/jpeg:https://tahkospa.fi/wp-content/uploads/2026/01/pexels-photo-3544171-3544171-scaled.jpg
END:VEVENT
BEGIN:VEVENT
DTSTART;TZID=Europe/Helsinki:20260226T150000
DTEND;TZID=Europe/Helsinki:20260226T160000
DTSTAMP:20260419T192259
CREATED:20260211T215239Z
LAST-MODIFIED:20260211T215239Z
UID:10000737-1772118000-1772121600@tahkospa.fi
SUMMARY:Musavisa Riemussa
DESCRIPTION:Ken on perheen musiikkitietäjä? Tervetuloa musavisailemaan Riemuun. Tiedossa pieniä palkintoja! 💙
URL:https://tahkospa.fi/tapahtuma/musavisa-riemussa/2026-02-26/
ATTACH;FMTTYPE=image/jpeg:https://tahkospa.fi/wp-content/uploads/2026/02/pexels-photo-5003638-5003638-scaled.jpg
END:VEVENT
END:VCALENDAR