BEGIN:VCALENDAR
VERSION:2.0
PRODID:-//Tahko Spa Hotel - ECPv6.15.20//NONSGML v1.0//EN
CALSCALE:GREGORIAN
METHOD:PUBLISH
X-WR-CALNAME:Tahko Spa Hotel
X-ORIGINAL-URL:https://tahkospa.fi
X-WR-CALDESC:Tapahtumat Tahko Spa Hotel
REFRESH-INTERVAL;VALUE=DURATION:PT1H
X-Robots-Tag:noindex
X-PUBLISHED-TTL:PT1H
BEGIN:VTIMEZONE
TZID:Europe/Helsinki
BEGIN:DAYLIGHT
TZOFFSETFROM:+0200
TZOFFSETTO:+0300
TZNAME:EEST
DTSTART:20250330T010000
END:DAYLIGHT
BEGIN:STANDARD
TZOFFSETFROM:+0300
TZOFFSETTO:+0200
TZNAME:EET
DTSTART:20251026T010000
END:STANDARD
BEGIN:DAYLIGHT
TZOFFSETFROM:+0200
TZOFFSETTO:+0300
TZNAME:EEST
DTSTART:20260329T010000
END:DAYLIGHT
BEGIN:STANDARD
TZOFFSETFROM:+0300
TZOFFSETTO:+0200
TZNAME:EET
DTSTART:20261025T010000
END:STANDARD
BEGIN:DAYLIGHT
TZOFFSETFROM:+0200
TZOFFSETTO:+0300
TZNAME:EEST
DTSTART:20270328T010000
END:DAYLIGHT
BEGIN:STANDARD
TZOFFSETFROM:+0300
TZOFFSETTO:+0200
TZNAME:EET
DTSTART:20271031T010000
END:STANDARD
END:VTIMEZONE
BEGIN:VEVENT
DTSTART;TZID=Europe/Helsinki:20260214T080000
DTEND;TZID=Europe/Helsinki:20260307T170000
DTSTAMP:20260419T192236
CREATED:20260211T215035Z
LAST-MODIFIED:20260211T215035Z
UID:10000735-1771056000-1772902800@tahkospa.fi
SUMMARY:Hiihtolomien leikkimieliset keilakisat 🎳 💙
DESCRIPTION:Jokaisella hiihtolomaviikolla kisataan Tahkon keilauskuninkuudesta hohtokeilauksessa aina klo 11:00 eteenpäin. \nPääpalkintona 50€ majoituslahjakortti Tahko Spahan! \nIlmoitathan tuloksesi ja sähköpostiosoitteesi keilamestarille pelien jälkeen\, jotta olet mukana kisassa 🤩
URL:https://tahkospa.fi/tapahtuma/hiihtolomien-leikkimieliset-keilakisat-%f0%9f%8e%b3-%f0%9f%92%99/
ATTACH;FMTTYPE=image/jpeg:https://tahkospa.fi/wp-content/uploads/2024/09/keilaus_webreso-4.jpg
END:VEVENT
BEGIN:VEVENT
DTSTART;TZID=Europe/Helsinki:20260227T130000
DTEND;TZID=Europe/Helsinki:20260227T140000
DTSTAMP:20260419T192236
CREATED:20260211T214658Z
LAST-MODIFIED:20260211T214658Z
UID:10000733-1772197200-1772200800@tahkospa.fi
SUMMARY:Tehotreeni 45 min
DESCRIPTION:Tehotreeni=koko vartalon läpikäyvä lihaskuntotunti. Tunnilla tehdään liikkeet omaan tahtiin ohjaajan opastuksella. Tunnin rakenne: alkulämmittely\, työosuus\, loppuverryttely. \nHinta: 12 € / 45 min / hlö (10€ Tahko Spassa majoittuville)\, maksu Tahko Span vastaanottoon. \nToteutus: Tunti järjestetään\, mikäli osallistujia on vähintään 4 – ilmoittautuminen lomakkeella on sitova. Mikäli tunti peruuntuu\, ilmoitamme siitä sähköpostitse tai puhelimitse. Tunti järjestetään Tahko Span alakerrassa\, ohjeet saat vastaanotosta. \nEnnen tuntia: Pukuhuoneet ovat käytettävissä ja et tarvitse paikalle muuta kuin itsesi – tule vain paikalle ja nauti. \n Ilmottaudu mukaan täältä
URL:https://tahkospa.fi/tapahtuma/tehotreeni-45-min-2/2026-02-27/
ATTACH;FMTTYPE=image/jpeg:https://tahkospa.fi/wp-content/uploads/2025/12/pexels-photo-6740822-6740822-scaled.jpg
END:VEVENT
BEGIN:VEVENT
DTSTART;TZID=Europe/Helsinki:20260227T170000
DTEND;TZID=Europe/Helsinki:20260227T180000
DTSTAMP:20260419T192236
CREATED:20260211T072349Z
LAST-MODIFIED:20260211T072349Z
UID:10000716-1772211600-1772215200@tahkospa.fi
SUMMARY:Lasten Pool Partyt allasosastolla
DESCRIPTION:Tervetuloa lasten omiin allasjuhliin! Tiedossa on musiikkia\, pientä kisailua ja naposteltavaa ohjaajan kanssa. \nHinta 10€ (5-17v.) sis. pääsyn allasosastolle 2h sekä hanajuoman \nOsta liput Tahko Span vastaanotosta! \nTervetuloa! 💜
URL:https://tahkospa.fi/tapahtuma/lasten-pool-partyt-allasosastolla/
ATTACH;FMTTYPE=image/jpeg:https://tahkospa.fi/wp-content/uploads/2020/03/Lasten-allas-2-scaled.jpg
END:VEVENT
BEGIN:VEVENT
DTSTART;TZID=Europe/Helsinki:20260227T170000
DTEND;TZID=Europe/Helsinki:20260227T190000
DTSTAMP:20260419T192236
CREATED:20250918T065746Z
LAST-MODIFIED:20260417T122429Z
UID:10000609-1772211600-1772218800@tahkospa.fi
SUMMARY:SuperPark Tahko: Sparkle-ilta
DESCRIPTION:SuperParkin Sparkle-ilta on lasten ja nuorten omat afterski-bileet! \nNimensä mukaisesti illat ovat täynnä menoa ja meininkiä\, värivaloja sekä musiikkia. Illan aikana tehdään kasvomaalauksia\, opetellaan temppuja benjitrampalla\, pompitaan valotrampoilla\, järjestetään leikkimielisiä kisailuja sekä hypätään köysiradalta ja trapetsilta foam-altaaseen. \nPääsylippu pelkkään Sparkle -iltaan 15 €. \nSuperPark päivä- tai osapäivälipun hankkineille ja SuperParkin kausikortti superiin sisäänpääsy kuuluu hankitun lipun hintaan. Arkikausikortin käyttäjä pääsee sisään loma-aikoina 5 € lisämaksulla.
URL:https://tahkospa.fi/tapahtuma/superpark-tahko-sparkle-ilta-2/2026-02-27/
ATTACH;FMTTYPE=image/jpeg:https://tahkospa.fi/wp-content/uploads/2025/05/A7C01587_crop-1024x683-2.jpg
END:VEVENT
END:VCALENDAR