BEGIN:VCALENDAR
VERSION:2.0
PRODID:-//Tahko Spa Hotel - ECPv6.15.20//NONSGML v1.0//EN
CALSCALE:GREGORIAN
METHOD:PUBLISH
X-WR-CALNAME:Tahko Spa Hotel
X-ORIGINAL-URL:https://tahkospa.fi
X-WR-CALDESC:Tapahtumat Tahko Spa Hotel
REFRESH-INTERVAL;VALUE=DURATION:PT1H
X-Robots-Tag:noindex
X-PUBLISHED-TTL:PT1H
BEGIN:VTIMEZONE
TZID:Europe/Helsinki
BEGIN:DAYLIGHT
TZOFFSETFROM:+0200
TZOFFSETTO:+0300
TZNAME:EEST
DTSTART:20250330T010000
END:DAYLIGHT
BEGIN:STANDARD
TZOFFSETFROM:+0300
TZOFFSETTO:+0200
TZNAME:EET
DTSTART:20251026T010000
END:STANDARD
BEGIN:DAYLIGHT
TZOFFSETFROM:+0200
TZOFFSETTO:+0300
TZNAME:EEST
DTSTART:20260329T010000
END:DAYLIGHT
BEGIN:STANDARD
TZOFFSETFROM:+0300
TZOFFSETTO:+0200
TZNAME:EET
DTSTART:20261025T010000
END:STANDARD
BEGIN:DAYLIGHT
TZOFFSETFROM:+0200
TZOFFSETTO:+0300
TZNAME:EEST
DTSTART:20270328T010000
END:DAYLIGHT
BEGIN:STANDARD
TZOFFSETFROM:+0300
TZOFFSETTO:+0200
TZNAME:EET
DTSTART:20271031T010000
END:STANDARD
END:VTIMEZONE
BEGIN:VEVENT
DTSTART;TZID=Europe/Helsinki:20260403T080000
DTEND;TZID=Europe/Helsinki:20260406T170000
DTSTAMP:20260419T174808
CREATED:20260311T142644Z
LAST-MODIFIED:20260331T104021Z
UID:10000745-1775203200-1775494800@tahkospa.fi
SUMMARY:Pääsiäisen ohjelma Tahko Spassa
DESCRIPTION:Hauskaa tekemistä koko perheelle!\nPääsiäismunajahti perheen pienimmille (to-la) – hauska ja kevyt aktiviteetti perheen pienimmile! Piilotamme pääsiäismunia ympäri Tahko Spata ja löytäjä saa pitää pienen herkun itsellään. Viime vuonna tämä aktiviteetti oli supersuosittu! \nPääsiäisen piirrustuskilpailut – perheen pienimmille leikkimielinen piirrustuskilpailu Tahko Span aulassa. Osallistujien kesken arvotaan pieni palkinto! \nHohtokeilaus alkaa pääsiäisenä aikaisemmin\, nimittäin klo 12 eteenpäin keilataan hohtona. Tervetuloa nauttimaan hohtavasta tunnelmasta\, hyvistä juomista ja snackseistä. \nPelipassi on back! Pelaa vähintään kolmea peliä Tahko Spalla ja voita liput Tahkon Juhannusjuhliin. Pelipassia voi pelata aina torstaista sunnuntaihin ja saat oman pelipassin Tahko Span vastaanotosta. \nSuperParkissa vietetään lauantaina Sparkle-iltaa klo 18-20 ja maanantaina Perheaamua klo 10-13. \nPääsiäisenä myös joogataan ja rentoudutaan äänien tahdissa\nTunnit koostuvat lempeistä yinjooga asanoista\, joiden jälkeen rentoudutaan erilaisten soitinten\, kuten koshi-kellojen\, tingshojen ja sadetikkujen äärellä. \nTunteja järjestetään pe 3.4. ja su 5.4. klo 11-11:45. \nIlmottaudu mukaan täältä \nToivottavasti nähdään Spalla! 💙 \n  \n 
URL:https://tahkospa.fi/tapahtuma/paasiaisen-ohjelma-tahko-spassa/
ATTACH;FMTTYPE=image/jpeg:https://tahkospa.fi/wp-content/uploads/2025/03/Tahko_pehkubaari_afterski_4-1-scaled.jpg
END:VEVENT
BEGIN:VEVENT
DTSTART;TZID=Europe/Helsinki:20260405T110000
DTEND;TZID=Europe/Helsinki:20260405T120000
DTSTAMP:20260419T174808
CREATED:20260312T125956Z
LAST-MODIFIED:20260330T175143Z
UID:10000757-1775386800-1775390400@tahkospa.fi
SUMMARY:Yin-jooga & äänimaljamatka
DESCRIPTION:Lempeä yin-harjoitus ja äänimaljamatkarentoutuksen rauhoittava sointi vievät sinut syvään rentoutumiseen. Äänimatkarentoutus (sound journey) on syvärentoutusmenetelmä\, jossa harmoniset äänet\, kuten tingshat\, sadekepit ja koshikellot luovat äänimaiseman kehon ja mielen rauhoittamiseen. Tervetuloa hellimään kehoa ja mieltä! 💙 \nHinta: 12 € / 45 min / hlö (10€ Tahko Span kautta majoituksen varanneille)\, maksu Tahko Span vastaanottoon. \nToteutus: Tunti järjestetään\, mikäli osallistujia on vähintään 4 – ilmoittautuminen lomakkeella on sitova. Mikäli tunti peruuntuu\, ilmoitamme siitä sähköpostitse tai puhelimitse. Tunti järjestetään Tahko Span alakerrassa\, ohjeet saat vastaanotosta. \nEnnen tuntia: Pukuhuoneet ovat käytettävissä ja et tarvitse paikalle muuta kuin itsesi – tule paikalle ja nauti.
URL:https://tahkospa.fi/tapahtuma/yin-jooga-aanimaljamatka/2026-04-05/
ATTACH;FMTTYPE=image/jpeg:https://tahkospa.fi/wp-content/uploads/2026/01/pexels-photo-3543846-3543846-scaled.jpg
END:VEVENT
END:VCALENDAR