BEGIN:VCALENDAR
VERSION:2.0
PRODID:-//Tahko Spa Hotel - ECPv6.15.20//NONSGML v1.0//EN
CALSCALE:GREGORIAN
METHOD:PUBLISH
X-ORIGINAL-URL:https://tahkospa.fi
X-WR-CALDESC:Tapahtumat Tahko Spa Hotel
REFRESH-INTERVAL;VALUE=DURATION:PT1H
X-Robots-Tag:noindex
X-PUBLISHED-TTL:PT1H
BEGIN:VTIMEZONE
TZID:Europe/Helsinki
BEGIN:DAYLIGHT
TZOFFSETFROM:+0200
TZOFFSETTO:+0300
TZNAME:EEST
DTSTART:20250330T010000
END:DAYLIGHT
BEGIN:STANDARD
TZOFFSETFROM:+0300
TZOFFSETTO:+0200
TZNAME:EET
DTSTART:20251026T010000
END:STANDARD
BEGIN:DAYLIGHT
TZOFFSETFROM:+0200
TZOFFSETTO:+0300
TZNAME:EEST
DTSTART:20260329T010000
END:DAYLIGHT
BEGIN:STANDARD
TZOFFSETFROM:+0300
TZOFFSETTO:+0200
TZNAME:EET
DTSTART:20261025T010000
END:STANDARD
BEGIN:DAYLIGHT
TZOFFSETFROM:+0200
TZOFFSETTO:+0300
TZNAME:EEST
DTSTART:20270328T010000
END:DAYLIGHT
BEGIN:STANDARD
TZOFFSETFROM:+0300
TZOFFSETTO:+0200
TZNAME:EET
DTSTART:20271031T010000
END:STANDARD
END:VTIMEZONE
BEGIN:VEVENT
DTSTART;VALUE=DATE:20260418
DTEND;VALUE=DATE:20260419
DTSTAMP:20260419T174942
CREATED:20260312T103428Z
LAST-MODIFIED:20260312T103428Z
UID:10000751-1776470400-1776556799@tahkospa.fi
SUMMARY:Extreme Run Tahko 18.4. – Kevättalven kreisein esteseikkailu!
DESCRIPTION:Unohda vakava urheilu ja tiukat trikoot! Lauantaina 18. huhtikuuta Tahkolla otetaan ilo irti\, kun kauden hauskin ja takuulla erikoisin hupitapahtuma valtaa maaston. Extreme Run ei kysy kuntoa\, vaan kestävää huumorintajua ja halua pitää hauskaa ystävien kanssa. \nTäällä tärkeintä ei ole loppuaika\, vaan se\, kuka selviää maaliin tyylikkäimmässä asussa ja levein hymy huulillaan. \nMitä on luvassa?\n\n\nNaamiaishumua: Radalla näet kaikkea supersankareista dinosauruksiin ja kylpytakkeihin. Parhaat asut ja hauskin meininki ovat päivän ytimessä! \n\n\nSohjoa\, vettä ja esteitä: Huhtikuinen rata tarjoaa omat hauskat haasteensa – luvassa on sopivasti roisketta ja kiipeilyä Tahkon upeissa maisemissa. \n\n\nFiilis edellä: Voit edetä omaan tahtiisi\, auttaa kaveria esteissä ja nauttia matkan varrella olevasta musiikista ja yleisön kannustuksesta. \n\n\nTämä on täydellinen tapa huipentaa kevätkausi kaveriporukan\, polttariryhmän tai työporukan kanssa. Tule sellaisena kuin olet (tai miksi ikinä haluatkaan pukeutua) ja koe Tahkon rennoin päivä! \nOsta liput täältä! \nVaraa majoitus täältä!
URL:https://tahkospa.fi/tapahtuma/extreme-run-tahko-18-4-kevattalven-kreisein-esteseikkailu/
ATTACH;FMTTYPE=image/jpeg:https://tahkospa.fi/wp-content/uploads/2026/03/pexels-photo-2526878-2526878-scaled.jpg
END:VEVENT
BEGIN:VEVENT
DTSTART;VALUE=DATE:20260418
DTEND;VALUE=DATE:20260419
DTSTAMP:20260419T174942
CREATED:20260312T111101Z
LAST-MODIFIED:20260312T111101Z
UID:10000754-1776470400-1776556799@tahkospa.fi
SUMMARY:Tahko Loppet: Hiihto- ja juontitapahtuma!
DESCRIPTION:Se hieman erilainen hiihtotapahtuma! Haasta Suomen huiput Tahkovuoren huipulla keväthangilla. Tutustu koko tapahtumaan täältä ja ilmottaudu mukaan! \n\n\n\n\n\n\nKILPAILUFORMAATIT: \n\n\n\n\n\n\n\n\n\n\n\n\nTIIMIKISA (4 hlö) \n2 tunnin kestävyysviesti\, jossa hiihtäjät kiertävät\nTahko Loppet rataa Tahkovuoren huipulla. Hiihdon\nlisäksi juomapisteellä juotava olut per kierros.\nEniten kierroksia kerännyt joukkue voittaa. \n\nSPRINTTI KARSINTA \nYhteislähdöllä yhden kierroksen ja yhden juoman\nkilpailu\, jossa kokonaisaika ratkaisee \n\n\n\n\n\n\n\n\n\n\n\nALLSTARS SPRINTTI FINAALI \nTahko Loppet huipentuu yhden kierroksen ja yhden\njuoman henkilökohtaiseen sprinttikilpailuun\, jossa\ntaso tulee olemaan kova! \n\n\n\n\n\n\n\n\n\n\n\n\nOsallistumismaksu sisältää tiimikisan ja henkilökohtaisen\nkilpailun. Joukkue ilmoitetaan ilmoittautumisen yhteydessä\nkisainfossa. \n\nUUTTA!!! \n\n\n\n\n\n\n\n\n\n\n\nKOPTERIKULJETUS + kilpailu + lounas + metsäkylpylä + jatkot \n\n\n\n\n\n\n\n\n\n\n\n\nSarajevo VIP CHOPPA 4 hlö | €599
URL:https://tahkospa.fi/tapahtuma/tahko-loppet-hiihto-ja-juontitapahtuma/
ATTACH;FMTTYPE=image/jpeg:https://tahkospa.fi/wp-content/uploads/2026/03/download.jpg
END:VEVENT
END:VCALENDAR