BEGIN:VCALENDAR
VERSION:2.0
PRODID:-//Tahko Spa Hotel - ECPv6.15.20//NONSGML v1.0//EN
CALSCALE:GREGORIAN
METHOD:PUBLISH
X-ORIGINAL-URL:https://tahkospa.fi
X-WR-CALDESC:Tapahtumat Tahko Spa Hotel
REFRESH-INTERVAL;VALUE=DURATION:PT1H
X-Robots-Tag:noindex
X-PUBLISHED-TTL:PT1H
BEGIN:VTIMEZONE
TZID:Europe/Helsinki
BEGIN:DAYLIGHT
TZOFFSETFROM:+0200
TZOFFSETTO:+0300
TZNAME:EEST
DTSTART:20250330T010000
END:DAYLIGHT
BEGIN:STANDARD
TZOFFSETFROM:+0300
TZOFFSETTO:+0200
TZNAME:EET
DTSTART:20251026T010000
END:STANDARD
BEGIN:DAYLIGHT
TZOFFSETFROM:+0200
TZOFFSETTO:+0300
TZNAME:EEST
DTSTART:20260329T010000
END:DAYLIGHT
BEGIN:STANDARD
TZOFFSETFROM:+0300
TZOFFSETTO:+0200
TZNAME:EET
DTSTART:20261025T010000
END:STANDARD
BEGIN:DAYLIGHT
TZOFFSETFROM:+0200
TZOFFSETTO:+0300
TZNAME:EEST
DTSTART:20270328T010000
END:DAYLIGHT
BEGIN:STANDARD
TZOFFSETFROM:+0300
TZOFFSETTO:+0200
TZNAME:EET
DTSTART:20271031T010000
END:STANDARD
END:VTIMEZONE
BEGIN:VEVENT
DTSTART;TZID=Europe/Helsinki:20260605T080000
DTEND;TZID=Europe/Helsinki:20260607T170000
DTSTAMP:20260419T205330
CREATED:20260312T095133Z
LAST-MODIFIED:20260312T095133Z
UID:10000747-1780646400-1780851600@tahkospa.fi
SUMMARY:Kunkkufest
DESCRIPTION:Tahkon kesäkausi saa näyttävän startin kesäkuun alussa\, kun upouusi KunkkuFest valtaa Tahkolahden ranta-alueen 5.–6.6.2026. Luvassa on kahden päivän mittainen bileviikonloppu täynnä kotimaista nostalgiaa ja kansainvälistä eurodance-huumaa. Osta liput täältä! \nTässä tapahtuman tärpit pähkinänkuoressa: \nPerjantai 5.6. – Nostalgian havinaa\nViikonloppu käynnistyy todellisella suomiviihteen ilotulituksella. Lavalle nousevat: \n\n\nDingo – Suomirokin legendat. \n\n\nEini – Diskoteekkien kestosuosikki. \n\n\nVirve Rosti & Freeman ja Menneisyyden vangit – Taattua yhteislaulutunnelmaa. \n\n\nLauantai 6.6. – Ysäritykitystä\nLauantaina tahti kiihtyy\, kun festivaalialueen täyttävät ysärihitit ja energinen eurodance: \n\n\nSolid Base & Daze – Pohjoismaista tanssimusiikin kärkikaartia. \n\n\nRama & Chorale – Vauhdikasta menoa ja tuttuja kertosäkeitä. \n\n\nOku Luukkainen – Suomen tunnetuin ysäriguru varmistaa\, että tanssilattia pysyy kuumana. \n\n\nPaikka: Tahkolahden ranta\, Tahko \nAika: 5.–6. kesäkuuta 2026
URL:https://tahkospa.fi/tapahtuma/kunkkufest/
ATTACH;FMTTYPE=image/jpeg:https://tahkospa.fi/wp-content/uploads/2026/03/pexels-photo-1190298-1190298-scaled.jpg
END:VEVENT
BEGIN:VEVENT
DTSTART;VALUE=DATE:20260606
DTEND;VALUE=DATE:20260607
DTSTAMP:20260419T205330
CREATED:20260312T104646Z
LAST-MODIFIED:20260312T104646Z
UID:10000752-1780704000-1780790399@tahkospa.fi
SUMMARY:Tahko Extreme 2026: Haasta itsesi kesän kovimmassa Hyrox-simulaatiossa!
DESCRIPTION:Oletko valmis testaamaan rajasi Tahkon henkeäsalpaavissa maisemissa? TehoTapahtumat ja Sunset TL kutsuvat sinut 6.6.2026 mukaan ainutlaatuiseen hyvän mielen voimainkoetukseen! \nKisa yhdistää kestävyyden ja voiman: luvassa on kahdeksan 1 km juoksuosuutta sekä kahdeksan toiminnallista harjoitusta. Eikä siinä vielä kaikki – kisan kruunaa loppunousu Suomen pisimmissä kuntoportaissa! 1054 porrasta ja 800 metriä nousua takaavat\, että jokainen maaliviivan saavuttanut tuntee itsensä todelliseksi voittajaksi. \nValitse oma tyylisi: \n\n\nYksilö-\, pari- tai tiimisarjat: Kisaa verissä päin tai ota kaverit mukaan. \n\n\nKilpasarjat: Naiset\, miehet ja sekasarjat. \n\n\nTiimikisa (4 hlö): Matalan kynnyksen sarja\, joka sopii täydellisesti vaikkapa työporukan virkistyspäiväksi tai ensikertalaisille. \n\n\nILMOTTAUDU MUKAAN TÄÄLTÄ \nMajoitusvinkki: Kisaajille tarjotaan -20 % alennus Tahko Spa:n huoneistoista koodilla HYROX. Etu on voimassa 4.–7.6.2026. Varaa majoitus täältä
URL:https://tahkospa.fi/tapahtuma/tahko-extreme-2026-haasta-itsesi-kesan-kovimmassa-hyrox-simulaatiossa/
ATTACH;FMTTYPE=image/jpeg:https://tahkospa.fi/wp-content/uploads/2026/03/IMG_1881.jpg
END:VEVENT
END:VCALENDAR