BEGIN:VCALENDAR
VERSION:2.0
PRODID:-//Tahko Spa Hotel - ECPv6.15.20//NONSGML v1.0//EN
CALSCALE:GREGORIAN
METHOD:PUBLISH
X-WR-CALNAME:Tahko Spa Hotel
X-ORIGINAL-URL:https://tahkospa.fi
X-WR-CALDESC:Tapahtumat Tahko Spa Hotel
REFRESH-INTERVAL;VALUE=DURATION:PT1H
X-Robots-Tag:noindex
X-PUBLISHED-TTL:PT1H
BEGIN:VTIMEZONE
TZID:Europe/Helsinki
BEGIN:DAYLIGHT
TZOFFSETFROM:+0200
TZOFFSETTO:+0300
TZNAME:EEST
DTSTART:20240331T010000
END:DAYLIGHT
BEGIN:STANDARD
TZOFFSETFROM:+0300
TZOFFSETTO:+0200
TZNAME:EET
DTSTART:20241027T010000
END:STANDARD
BEGIN:DAYLIGHT
TZOFFSETFROM:+0200
TZOFFSETTO:+0300
TZNAME:EEST
DTSTART:20250330T010000
END:DAYLIGHT
BEGIN:STANDARD
TZOFFSETFROM:+0300
TZOFFSETTO:+0200
TZNAME:EET
DTSTART:20251026T010000
END:STANDARD
BEGIN:DAYLIGHT
TZOFFSETFROM:+0200
TZOFFSETTO:+0300
TZNAME:EEST
DTSTART:20260329T010000
END:DAYLIGHT
BEGIN:STANDARD
TZOFFSETFROM:+0300
TZOFFSETTO:+0200
TZNAME:EET
DTSTART:20261025T010000
END:STANDARD
END:VTIMEZONE
BEGIN:VEVENT
DTSTART;VALUE=DATE:20251031
DTEND;VALUE=DATE:20251102
DTSTAMP:20260420T012220
CREATED:20251023T183402Z
LAST-MODIFIED:20251023T200441Z
UID:10000664-1761868800-1762041599@tahkospa.fi
SUMMARY:Karmiva Halloween Tahko Spassa & SuperParkissa
DESCRIPTION:Tervetuloa viettämään karmivaa Halloweenia Spalle! Tutustu ohjelmaan!\n🎃\n31.10. perjantaina\nklo 17:00 eteenpäin Spassa on tiedossa: \n\nKummitusmusiikkia\nTunnelmavalaistus\nHämähäkkijahtia perheen pienimmille\nHalloween -teemainen piirrustuskilpailu\n\nklo 17–19 Sparkle–ilta SuperParkissa: Discotunnelmaa ja musiikkia – tervetuloa lasten ja nuorten omiin bileisiin! \n1.11. lauantaina\nklo 10–21 Spassa: \n\nHohtokeilausta koko päivän\nPukukilpailu hohtokeilauksessa – parhaiten pukeutuneet palkitaan!\nKummitusmusiikkia\nTunnelmavalaistus\nHämähäkkijahtia perheen pienimmille\nHalloween -teemainen piirrustuskilpailu\n\nklo 12–17 SuperParkissa: \n\nSuperPark Halloween-teemaisena\nNaamiaisasuissa saa tulla – parhaat asut palkitaan!\nSpesiaalia ohjelmaa\n\nTervetuloa viettämään Halloweenia Spalle!
URL:https://tahkospa.fi/tapahtuma/karmiva-halloween-tahko-spassa-superparkissa/
ATTACH;FMTTYPE=image/jpeg:https://tahkospa.fi/wp-content/uploads/2025/10/gdc55a720ae2a120b77726d61b9b2b6a6af6a2ca5af2a403bab4d1bf939c6125af377cd7e5eb33ea118a78ea8108177cf7544a3315adfbe9f2b275fc23decd3ee_1280-5706427.jpg
END:VEVENT
BEGIN:VEVENT
DTSTART;TZID=Europe/Helsinki:20251107T170000
DTEND;TZID=Europe/Helsinki:20251107T190000
DTSTAMP:20260420T012220
CREATED:20250918T065746Z
LAST-MODIFIED:20260417T122429Z
UID:10000593-1762534800-1762542000@tahkospa.fi
SUMMARY:SuperPark Tahko: Sparkle-ilta
DESCRIPTION:SuperParkin Sparkle-ilta on lasten ja nuorten omat afterski-bileet! \nNimensä mukaisesti illat ovat täynnä menoa ja meininkiä\, värivaloja sekä musiikkia. Illan aikana tehdään kasvomaalauksia\, opetellaan temppuja benjitrampalla\, pompitaan valotrampoilla\, järjestetään leikkimielisiä kisailuja sekä hypätään köysiradalta ja trapetsilta foam-altaaseen. \nPääsylippu pelkkään Sparkle -iltaan 15 €. \nSuperPark päivä- tai osapäivälipun hankkineille ja SuperParkin kausikortti superiin sisäänpääsy kuuluu hankitun lipun hintaan. Arkikausikortin käyttäjä pääsee sisään loma-aikoina 5 € lisämaksulla.
URL:https://tahkospa.fi/tapahtuma/superpark-tahko-sparkle-ilta-2/2025-11-07/
ATTACH;FMTTYPE=image/jpeg:https://tahkospa.fi/wp-content/uploads/2025/05/A7C01587_crop-1024x683-2.jpg
END:VEVENT
BEGIN:VEVENT
DTSTART;TZID=Europe/Helsinki:20251108T100000
DTEND;TZID=Europe/Helsinki:20251108T110000
DTSTAMP:20260420T012220
CREATED:20251107T145417Z
LAST-MODIFIED:20251107T145418Z
UID:10000584-1762596000-1762599600@tahkospa.fi
SUMMARY:Yin-jooga + äänimaljarentoutus - TÄYNNÄ!
DESCRIPTION:Yin-jooga on palauttava ja rauhoittava joogamuoto\, kun taas äänimaljarentoutus rentouttaa koko kehon äänimaljan sointujen myötä. \nTunnit ohjaa ihana Amanda Taskinen – koulutettu Personal Trainer\, äitiysliikuntaneuvoja ja mm. äänimaljahoitaja.  \nIlmottaudu tunneille Tahko Span vastaanotosta tai täältä. Ilmoittautuminen viim. klo 18 edellisenä iltana. \n\nHinta 12€ / tunti per henkilö (meillä majoittuville 10€ / hlö) – maksu Tahko Span vastaanottoon.
URL:https://tahkospa.fi/tapahtuma/yin-jooga-aanimaljarentoutus-2/
ATTACH;FMTTYPE=image/jpeg:https://tahkospa.fi/wp-content/uploads/2025/10/g89779a7bd8eaa6e9eaa9bf908a2a58ef63fb4313af42c7d4109519a9997c5ce28c31e7f73658560ef1e9f6ed557651c3_1280-235269.jpg
END:VEVENT
BEGIN:VEVENT
DTSTART;TZID=Europe/Helsinki:20251114T170000
DTEND;TZID=Europe/Helsinki:20251114T190000
DTSTAMP:20260420T012220
CREATED:20250918T065746Z
LAST-MODIFIED:20260417T122429Z
UID:10000594-1763139600-1763146800@tahkospa.fi
SUMMARY:SuperPark Tahko: Sparkle-ilta
DESCRIPTION:SuperParkin Sparkle-ilta on lasten ja nuorten omat afterski-bileet! \nNimensä mukaisesti illat ovat täynnä menoa ja meininkiä\, värivaloja sekä musiikkia. Illan aikana tehdään kasvomaalauksia\, opetellaan temppuja benjitrampalla\, pompitaan valotrampoilla\, järjestetään leikkimielisiä kisailuja sekä hypätään köysiradalta ja trapetsilta foam-altaaseen. \nPääsylippu pelkkään Sparkle -iltaan 15 €. \nSuperPark päivä- tai osapäivälipun hankkineille ja SuperParkin kausikortti superiin sisäänpääsy kuuluu hankitun lipun hintaan. Arkikausikortin käyttäjä pääsee sisään loma-aikoina 5 € lisämaksulla.
URL:https://tahkospa.fi/tapahtuma/superpark-tahko-sparkle-ilta-2/2025-11-14/
ATTACH;FMTTYPE=image/jpeg:https://tahkospa.fi/wp-content/uploads/2025/05/A7C01587_crop-1024x683-2.jpg
END:VEVENT
BEGIN:VEVENT
DTSTART;TZID=Europe/Helsinki:20251115T100000
DTEND;TZID=Europe/Helsinki:20251115T110000
DTSTAMP:20260420T012220
CREATED:20251008T161151Z
LAST-MODIFIED:20251119T191343Z
UID:10000585-1763200800-1763204400@tahkospa.fi
SUMMARY:Yin-jooga + äänimaljarentoutus
DESCRIPTION:Yin-jooga on palauttava ja rauhoittava joogamuoto\, kun taas äänimaljarentoutus rentouttaa koko kehon äänimaljan sointujen myötä. \nTunnit ohjaa ihana Amanda Taskinen – koulutettu Personal Trainer\, äitiysliikuntaneuvoja ja mm. äänimaljahoitaja.  \nIlmottaudu tunneille Tahko Span vastaanotosta tai täältä. Ilmoittautuminen viim. klo 18 edellisenä iltana. \n\nHinta 12€ / tunti per henkilö (meillä majoittuville 10€ / hlö) – maksu Tahko Span vastaanottoon.
URL:https://tahkospa.fi/tapahtuma/yin-jooga-aanimaljarentoutus/2025-11-15/
ATTACH;FMTTYPE=image/jpeg:https://tahkospa.fi/wp-content/uploads/2025/10/g89779a7bd8eaa6e9eaa9bf908a2a58ef63fb4313af42c7d4109519a9997c5ce28c31e7f73658560ef1e9f6ed557651c3_1280-235269.jpg
END:VEVENT
BEGIN:VEVENT
DTSTART;TZID=Europe/Helsinki:20251120T100000
DTEND;TZID=Europe/Helsinki:20251120T130000
DTSTAMP:20260420T012220
CREATED:20250918T074756Z
LAST-MODIFIED:20260312T110527Z
UID:10000659-1763632800-1763643600@tahkospa.fi
SUMMARY:SuperPark: Perheaamu
DESCRIPTION:SuperParkin perheaamut on tarkoitettu perheen alle kouluikäisille lapsille ja heidän huoltajilleen (yli 18 v.). Perheen koko on 2-5 henkilöä (1-2 aikuista ja 1-4 alle 7 v. lasta). Perheaamuja järjestetään sesonkiaikojen ulkopuolella 1-2 kertaa kuussa ja toivomme niiden innostavan pienten lasten perheitä tulemaan Tahkolle myös silloin kun meillä on hiljaisempaa\, eli pienille pomppijoille on silloin paremmin tilaa! \n2h perhelipun hinta on PERHEAAMUNA superedullinen 20 €/perhe. Ilakoidaan yhdessä!  Lippuja myydään vain Tahko Span vastaanottotiskiltä. lippujen myyntiaika on rajattu 10:00 -11:30.
URL:https://tahkospa.fi/tapahtuma/superpark-perheaamu/2025-11-20/
ATTACH;FMTTYPE=image/jpeg:https://tahkospa.fi/wp-content/uploads/2025/05/A7C03666_crop-1024x683-1.jpg
END:VEVENT
BEGIN:VEVENT
DTSTART;TZID=Europe/Helsinki:20251121T170000
DTEND;TZID=Europe/Helsinki:20251121T190000
DTSTAMP:20260420T012220
CREATED:20250918T065746Z
LAST-MODIFIED:20260417T122429Z
UID:10000595-1763744400-1763751600@tahkospa.fi
SUMMARY:SuperPark Tahko: Sparkle-ilta
DESCRIPTION:SuperParkin Sparkle-ilta on lasten ja nuorten omat afterski-bileet! \nNimensä mukaisesti illat ovat täynnä menoa ja meininkiä\, värivaloja sekä musiikkia. Illan aikana tehdään kasvomaalauksia\, opetellaan temppuja benjitrampalla\, pompitaan valotrampoilla\, järjestetään leikkimielisiä kisailuja sekä hypätään köysiradalta ja trapetsilta foam-altaaseen. \nPääsylippu pelkkään Sparkle -iltaan 15 €. \nSuperPark päivä- tai osapäivälipun hankkineille ja SuperParkin kausikortti superiin sisäänpääsy kuuluu hankitun lipun hintaan. Arkikausikortin käyttäjä pääsee sisään loma-aikoina 5 € lisämaksulla.
URL:https://tahkospa.fi/tapahtuma/superpark-tahko-sparkle-ilta-2/2025-11-21/
ATTACH;FMTTYPE=image/jpeg:https://tahkospa.fi/wp-content/uploads/2025/05/A7C01587_crop-1024x683-2.jpg
END:VEVENT
BEGIN:VEVENT
DTSTART;VALUE=DATE:20251122
DTEND;VALUE=DATE:20251123
DTSTAMP:20260420T012220
CREATED:20251015T110333Z
LAST-MODIFIED:20251015T110354Z
UID:10000661-1763769600-1763855999@tahkospa.fi
SUMMARY:Piazza esittää: Bess!
DESCRIPTION:Lauantaina Piazzassa esiintyy Bess! Ram\, pam\, pam! \nLiput 29€\, sis. narikan. Osta ennakkoon täältä!
URL:https://tahkospa.fi/tapahtuma/piazza-esittaa-bess/
ATTACH;FMTTYPE=image/jpeg:https://tahkospa.fi/wp-content/uploads/2025/10/pexels-photo-1587927-1587927-scaled.jpg
END:VEVENT
BEGIN:VEVENT
DTSTART;TZID=Europe/Helsinki:20251122T100000
DTEND;TZID=Europe/Helsinki:20251122T110000
DTSTAMP:20260420T012220
CREATED:20251008T161151Z
LAST-MODIFIED:20251119T191343Z
UID:10000586-1763805600-1763809200@tahkospa.fi
SUMMARY:Yin-jooga + äänimaljarentoutus
DESCRIPTION:Yin-jooga on palauttava ja rauhoittava joogamuoto\, kun taas äänimaljarentoutus rentouttaa koko kehon äänimaljan sointujen myötä. \nTunnit ohjaa ihana Amanda Taskinen – koulutettu Personal Trainer\, äitiysliikuntaneuvoja ja mm. äänimaljahoitaja.  \nIlmottaudu tunneille Tahko Span vastaanotosta tai täältä. Ilmoittautuminen viim. klo 18 edellisenä iltana. \n\nHinta 12€ / tunti per henkilö (meillä majoittuville 10€ / hlö) – maksu Tahko Span vastaanottoon.
URL:https://tahkospa.fi/tapahtuma/yin-jooga-aanimaljarentoutus/2025-11-22/
ATTACH;FMTTYPE=image/jpeg:https://tahkospa.fi/wp-content/uploads/2025/10/g89779a7bd8eaa6e9eaa9bf908a2a58ef63fb4313af42c7d4109519a9997c5ce28c31e7f73658560ef1e9f6ed557651c3_1280-235269.jpg
END:VEVENT
BEGIN:VEVENT
DTSTART;TZID=Europe/Helsinki:20251128T170000
DTEND;TZID=Europe/Helsinki:20251128T190000
DTSTAMP:20260420T012220
CREATED:20250918T065746Z
LAST-MODIFIED:20260417T122429Z
UID:10000596-1764349200-1764356400@tahkospa.fi
SUMMARY:SuperPark Tahko: Sparkle-ilta
DESCRIPTION:SuperParkin Sparkle-ilta on lasten ja nuorten omat afterski-bileet! \nNimensä mukaisesti illat ovat täynnä menoa ja meininkiä\, värivaloja sekä musiikkia. Illan aikana tehdään kasvomaalauksia\, opetellaan temppuja benjitrampalla\, pompitaan valotrampoilla\, järjestetään leikkimielisiä kisailuja sekä hypätään köysiradalta ja trapetsilta foam-altaaseen. \nPääsylippu pelkkään Sparkle -iltaan 15 €. \nSuperPark päivä- tai osapäivälipun hankkineille ja SuperParkin kausikortti superiin sisäänpääsy kuuluu hankitun lipun hintaan. Arkikausikortin käyttäjä pääsee sisään loma-aikoina 5 € lisämaksulla.
URL:https://tahkospa.fi/tapahtuma/superpark-tahko-sparkle-ilta-2/2025-11-28/
ATTACH;FMTTYPE=image/jpeg:https://tahkospa.fi/wp-content/uploads/2025/05/A7C01587_crop-1024x683-2.jpg
END:VEVENT
END:VCALENDAR