BEGIN:VCALENDAR
VERSION:2.0
PRODID:-//Tahko Spa Hotel - ECPv6.15.20//NONSGML v1.0//EN
CALSCALE:GREGORIAN
METHOD:PUBLISH
X-WR-CALNAME:Tahko Spa Hotel
X-ORIGINAL-URL:https://tahkospa.fi
X-WR-CALDESC:Tapahtumat Tahko Spa Hotel
REFRESH-INTERVAL;VALUE=DURATION:PT1H
X-Robots-Tag:noindex
X-PUBLISHED-TTL:PT1H
BEGIN:VTIMEZONE
TZID:Europe/Helsinki
BEGIN:DAYLIGHT
TZOFFSETFROM:+0200
TZOFFSETTO:+0300
TZNAME:EEST
DTSTART:20250330T010000
END:DAYLIGHT
BEGIN:STANDARD
TZOFFSETFROM:+0300
TZOFFSETTO:+0200
TZNAME:EET
DTSTART:20251026T010000
END:STANDARD
BEGIN:DAYLIGHT
TZOFFSETFROM:+0200
TZOFFSETTO:+0300
TZNAME:EEST
DTSTART:20260329T010000
END:DAYLIGHT
BEGIN:STANDARD
TZOFFSETFROM:+0300
TZOFFSETTO:+0200
TZNAME:EET
DTSTART:20261025T010000
END:STANDARD
BEGIN:DAYLIGHT
TZOFFSETFROM:+0200
TZOFFSETTO:+0300
TZNAME:EEST
DTSTART:20270328T010000
END:DAYLIGHT
BEGIN:STANDARD
TZOFFSETFROM:+0300
TZOFFSETTO:+0200
TZNAME:EET
DTSTART:20271031T010000
END:STANDARD
END:VTIMEZONE
BEGIN:VEVENT
DTSTART;TZID=Europe/Helsinki:20260102T100000
DTEND;TZID=Europe/Helsinki:20260102T130000
DTSTAMP:20260419T205333
CREATED:20250918T075139Z
LAST-MODIFIED:20260312T102211Z
UID:10000653-1767348000-1767358800@tahkospa.fi
SUMMARY:SuperPark Tahko: Muksuaamu
DESCRIPTION:Muksu on 3-6 vuotias lapsi ja muksuaamu on SuperCorner Tahkon sesonkiaikojen tarjous pienten lasten perheille 1-3 kertaa viikossa.  Kaiken ikäiset ovat tervetulleita puistoon muksuaamuna\, mutta suosimme alle kouluikäisten perheitä hinnoittelussa. Muksuaamun hinta on 19 € / alle kouluikäinen muksu + täysi-ikäinen huoltaja. Lisämuksu tai toinen aikuinen pääsevät muksuaamuun kympillä. Liput ovat Teho 2h rannekkeita. \nMuksuaamu kestää 3 tuntia: Aamu alkaa klo 10 ja päättyy klo 13.  Lippuja myydään vain Tahko Span vastaanottotiskiltä. Muksuaamujen lippujen myyntiaika on rajattu 10:00 -11:30.
URL:https://tahkospa.fi/tapahtuma/superpark-tahko-muksuaamu-2/2026-01-02/
ATTACH;FMTTYPE=image/jpeg:https://tahkospa.fi/wp-content/uploads/2025/05/A7C03666_crop-1024x683-1.jpg
END:VEVENT
BEGIN:VEVENT
DTSTART;TZID=Europe/Helsinki:20260102T120000
DTEND;TZID=Europe/Helsinki:20260102T130000
DTSTAMP:20260419T205333
CREATED:20251202T145948Z
LAST-MODIFIED:20251219T090702Z
UID:10000681-1767355200-1767358800@tahkospa.fi
SUMMARY:Tehotreeni 45 min
DESCRIPTION:Tehotreeni=koko vartalon läpikäyvä lihaskuntotunti. Tunnilla tehdään liikkeet omaan tahtiin ohjaajan opastuksella. Tunnin rakenne: alkulämmittely\, työosuus\, loppuverryttely. \nHinta: 12 € / 45 min / hlö (10€ Tahko Spassa majoittuville)\, maksu Tahko Span vastaanottoon. \nToteutus: Tunti järjestetään\, mikäli osallistujia on vähintään 4 – ilmoittautuminen lomakkeella on sitova. Mikäli tunti peruuntuu\, ilmoitamme siitä sähköpostitse tai puhelimitse. Tunti järjestetään Tahko Span alakerrassa\, ohjeet saat vastaanotosta. \nEnnen tuntia: Pukuhuoneet ovat käytettävissä ja et tarvitse paikalle muuta kuin itsesi – tule vain paikalle ja nauti. \n👉 Ilmottaudu mukaan täältä
URL:https://tahkospa.fi/tapahtuma/tehotreeni-45-min/2026-01-02/
ATTACH;FMTTYPE=image/jpeg:https://tahkospa.fi/wp-content/uploads/2025/12/pexels-photo-6740822-6740822-scaled.jpg
END:VEVENT
BEGIN:VEVENT
DTSTART;TZID=Europe/Helsinki:20260102T130000
DTEND;TZID=Europe/Helsinki:20260102T133000
DTSTAMP:20260419T205333
CREATED:20251206T131836Z
LAST-MODIFIED:20251206T131836Z
UID:10000687-1767358800-1767360600@tahkospa.fi
SUMMARY:Vesijumppa 30 min allasosastolla
DESCRIPTION:Tervetuloa mukaan matalan kynnyksen vesijumppaan Tahko Span allasosastolle. Tiedossa on hauskaa ja erilaista liikuntaa! \nHinta: 8€ / hlö + allasosastolippu erikseen \nIlmottaudu mukaan täältä \nToteutus: Tunti järjestetään\, mikäli osallistujia on vähintään 4 – ilmoittautuminen lomakkeella on sitova. Mikäli tunti peruuntuu\, ilmoitamme siitä sähköpostitse tai puhelimitse. Tunti järjestetään Tahko Spalla. Ohjeet annetaan vastaanotosta.
URL:https://tahkospa.fi/tapahtuma/vesijumppa-30-min-allasosastolla/2026-01-02/
ATTACH;FMTTYPE=image/jpeg:https://tahkospa.fi/wp-content/uploads/2025/03/tahkospa23_webreso-57.jpg
END:VEVENT
BEGIN:VEVENT
DTSTART;TZID=Europe/Helsinki:20260102T170000
DTEND;TZID=Europe/Helsinki:20260102T190000
DTSTAMP:20260419T205333
CREATED:20250918T065746Z
LAST-MODIFIED:20260417T122429Z
UID:10000601-1767373200-1767380400@tahkospa.fi
SUMMARY:SuperPark Tahko: Sparkle-ilta
DESCRIPTION:SuperParkin Sparkle-ilta on lasten ja nuorten omat afterski-bileet! \nNimensä mukaisesti illat ovat täynnä menoa ja meininkiä\, värivaloja sekä musiikkia. Illan aikana tehdään kasvomaalauksia\, opetellaan temppuja benjitrampalla\, pompitaan valotrampoilla\, järjestetään leikkimielisiä kisailuja sekä hypätään köysiradalta ja trapetsilta foam-altaaseen. \nPääsylippu pelkkään Sparkle -iltaan 15 €. \nSuperPark päivä- tai osapäivälipun hankkineille ja SuperParkin kausikortti superiin sisäänpääsy kuuluu hankitun lipun hintaan. Arkikausikortin käyttäjä pääsee sisään loma-aikoina 5 € lisämaksulla.
URL:https://tahkospa.fi/tapahtuma/superpark-tahko-sparkle-ilta-2/2026-01-02/
ATTACH;FMTTYPE=image/jpeg:https://tahkospa.fi/wp-content/uploads/2025/05/A7C01587_crop-1024x683-2.jpg
END:VEVENT
BEGIN:VEVENT
DTSTART;TZID=Europe/Helsinki:20260103T100000
DTEND;TZID=Europe/Helsinki:20260103T110000
DTSTAMP:20260419T205333
CREATED:20251202T112719Z
LAST-MODIFIED:20260124T090408Z
UID:10000675-1767434400-1767438000@tahkospa.fi
SUMMARY:Yin-jooga + äänimaljarentoutus 45 min
DESCRIPTION:Lempeä yin-harjoitus ja äänimaljojen rauhoittava sointi vievät sinut syvään rentoutumiseen. Tervetuloa hellimään kehoa ja mieltä! 💙 \nHinta: 12 € / 45 min / hlö (10€ Tahko Span kautta majoituksen varanneille)\, maksu Tahko Span vastaanottoon. \nToteutus: Tunti järjestetään\, mikäli osallistujia on vähintään 4 – ilmoittautuminen lomakkeella on sitova. Mikäli tunti peruuntuu\, ilmoitamme siitä sähköpostitse tai puhelimitse. Tunti järjestetään Tahko Span alakerrassa\, ohjeet saat vastaanotosta. \nEnnen tuntia: Pukuhuoneet ovat käytettävissä ja et tarvitse paikalle muuta kuin itsesi – tule paikalle ja nauti. \n👉 Ilmottaudu mukaan täältä \n  \n 
URL:https://tahkospa.fi/tapahtuma/yinjooga/2026-01-03/
ATTACH;FMTTYPE=image/jpeg:https://tahkospa.fi/wp-content/uploads/2025/12/pexels-photo-8391651-8391651-scaled.jpg
END:VEVENT
BEGIN:VEVENT
DTSTART;TZID=Europe/Helsinki:20260105T100000
DTEND;TZID=Europe/Helsinki:20260105T130000
DTSTAMP:20260419T205334
CREATED:20250918T075139Z
LAST-MODIFIED:20260312T102211Z
UID:10000654-1767607200-1767618000@tahkospa.fi
SUMMARY:SuperPark Tahko: Muksuaamu
DESCRIPTION:Muksu on 3-6 vuotias lapsi ja muksuaamu on SuperCorner Tahkon sesonkiaikojen tarjous pienten lasten perheille 1-3 kertaa viikossa.  Kaiken ikäiset ovat tervetulleita puistoon muksuaamuna\, mutta suosimme alle kouluikäisten perheitä hinnoittelussa. Muksuaamun hinta on 19 € / alle kouluikäinen muksu + täysi-ikäinen huoltaja. Lisämuksu tai toinen aikuinen pääsevät muksuaamuun kympillä. Liput ovat Teho 2h rannekkeita. \nMuksuaamu kestää 3 tuntia: Aamu alkaa klo 10 ja päättyy klo 13.  Lippuja myydään vain Tahko Span vastaanottotiskiltä. Muksuaamujen lippujen myyntiaika on rajattu 10:00 -11:30.
URL:https://tahkospa.fi/tapahtuma/superpark-tahko-muksuaamu-2/2026-01-05/
ATTACH;FMTTYPE=image/jpeg:https://tahkospa.fi/wp-content/uploads/2025/05/A7C03666_crop-1024x683-1.jpg
END:VEVENT
BEGIN:VEVENT
DTSTART;TZID=Europe/Helsinki:20260109T170000
DTEND;TZID=Europe/Helsinki:20260109T190000
DTSTAMP:20260419T205334
CREATED:20250918T065746Z
LAST-MODIFIED:20260417T122429Z
UID:10000602-1767978000-1767985200@tahkospa.fi
SUMMARY:SuperPark Tahko: Sparkle-ilta
DESCRIPTION:SuperParkin Sparkle-ilta on lasten ja nuorten omat afterski-bileet! \nNimensä mukaisesti illat ovat täynnä menoa ja meininkiä\, värivaloja sekä musiikkia. Illan aikana tehdään kasvomaalauksia\, opetellaan temppuja benjitrampalla\, pompitaan valotrampoilla\, järjestetään leikkimielisiä kisailuja sekä hypätään köysiradalta ja trapetsilta foam-altaaseen. \nPääsylippu pelkkään Sparkle -iltaan 15 €. \nSuperPark päivä- tai osapäivälipun hankkineille ja SuperParkin kausikortti superiin sisäänpääsy kuuluu hankitun lipun hintaan. Arkikausikortin käyttäjä pääsee sisään loma-aikoina 5 € lisämaksulla.
URL:https://tahkospa.fi/tapahtuma/superpark-tahko-sparkle-ilta-2/2026-01-09/
ATTACH;FMTTYPE=image/jpeg:https://tahkospa.fi/wp-content/uploads/2025/05/A7C01587_crop-1024x683-2.jpg
END:VEVENT
BEGIN:VEVENT
DTSTART;TZID=Europe/Helsinki:20260115T170000
DTEND;TZID=Europe/Helsinki:20260117T170000
DTSTAMP:20260419T205334
CREATED:20251112T201259Z
LAST-MODIFIED:20251112T201721Z
UID:10000668-1768496400-1768669200@tahkospa.fi
SUMMARY:Tahko Business Padel
DESCRIPTION:Lähde työporukan\, asiakkaiden tai kumppaneiden kanssa Tahkolle padelin\, hyvän ruoan ja rentoutumisen merkeissä! Tahko Business Padel yhdistää rennon kisatunnelman\, laadukkaan majoituksen ja illallisen palkintojenjaolla – täydellinen startti uuteen vuoteen bisnestvistillä. \nAjankohta: to–la 15.–17.1.2026Paikka: Tahko Padel & Tahko Spa / Ravintola Riemu\nOhjelma pähkinänkuoressa:\n\n\nTorstai: vapaaehtoinen Mexicano-turnaus 17:30–20:00 \n\n\nPerjantai: aamiainen → pelit 10:00 → illallinen & palkintojenjako 19:00 → jatkot \n\n\nLauantai: aamupalaoptio ja kotimatka \n\n\nSarjat:\nKilpasarja & Harrastesarja (yrityksellä voi olla useampi joukkue) \nOsallistumismaksu:\n99 € / hlö (sis. aamiainen\, illallinen\, pelipallot ja vuokramaila tarvittaessa)Lisähenkilöt: 49 € / hlö | Lauantain aamupala 18\,90 € \nMajoitus Tahko Spassa:\n(2 lisävuodetta mahdollinen jokaiseen huoneistoon) \n\nLilja 190 €/1 vrk\, 370 €/2 vrk (2 hlö)\nHalla 225 €/1 vrk\, 420 €/2 vrk (3 hlö)\nKuura 250 €/1 vrk\, 460 €/2 vrk (4 hlö)\nUtu 295 €/1 vrk\, 520 €/2 vrk (4 hlö)\nAava 320 €/1 vrk\, 550 €/2 vrk (4 hlö)\nKajo 500 €/1 vrk\, 800 €/2 vrk (5 hlö)\nValo 600 €/1 vrk\, 900 €/2 vrk (4 hlö)\n\nLisävuoteet: normihuone +70 €\, sviitti +100 €. \nIlmoittautuminen on auki! \nIlmottaudu mukaan täältä.  \n20.10.–21.12.2025. Peruutus ilman kuluja 29.12.2025 asti. \n  \n 
URL:https://tahkospa.fi/tapahtuma/tahko-business-padel/
ATTACH;FMTTYPE=image/jpeg:https://tahkospa.fi/wp-content/uploads/2025/09/Avajaiset-237-of-354-scaled.jpg
END:VEVENT
BEGIN:VEVENT
DTSTART;TZID=Europe/Helsinki:20260116T170000
DTEND;TZID=Europe/Helsinki:20260116T190000
DTSTAMP:20260419T205334
CREATED:20250918T065746Z
LAST-MODIFIED:20260417T122429Z
UID:10000603-1768582800-1768590000@tahkospa.fi
SUMMARY:SuperPark Tahko: Sparkle-ilta
DESCRIPTION:SuperParkin Sparkle-ilta on lasten ja nuorten omat afterski-bileet! \nNimensä mukaisesti illat ovat täynnä menoa ja meininkiä\, värivaloja sekä musiikkia. Illan aikana tehdään kasvomaalauksia\, opetellaan temppuja benjitrampalla\, pompitaan valotrampoilla\, järjestetään leikkimielisiä kisailuja sekä hypätään köysiradalta ja trapetsilta foam-altaaseen. \nPääsylippu pelkkään Sparkle -iltaan 15 €. \nSuperPark päivä- tai osapäivälipun hankkineille ja SuperParkin kausikortti superiin sisäänpääsy kuuluu hankitun lipun hintaan. Arkikausikortin käyttäjä pääsee sisään loma-aikoina 5 € lisämaksulla.
URL:https://tahkospa.fi/tapahtuma/superpark-tahko-sparkle-ilta-2/2026-01-16/
ATTACH;FMTTYPE=image/jpeg:https://tahkospa.fi/wp-content/uploads/2025/05/A7C01587_crop-1024x683-2.jpg
END:VEVENT
BEGIN:VEVENT
DTSTART;TZID=Europe/Helsinki:20260117T100000
DTEND;TZID=Europe/Helsinki:20260117T110000
DTSTAMP:20260419T205334
CREATED:20251202T112719Z
LAST-MODIFIED:20260124T090408Z
UID:10000702-1768644000-1768647600@tahkospa.fi
SUMMARY:Yin-jooga + äänimaljarentoutus 45 min
DESCRIPTION:Lempeä yin-harjoitus ja äänimaljojen rauhoittava sointi vievät sinut syvään rentoutumiseen. Tervetuloa hellimään kehoa ja mieltä! 💙 \nHinta: 12 € / 45 min / hlö (10€ Tahko Span kautta majoituksen varanneille)\, maksu Tahko Span vastaanottoon. \nToteutus: Tunti järjestetään\, mikäli osallistujia on vähintään 4 – ilmoittautuminen lomakkeella on sitova. Mikäli tunti peruuntuu\, ilmoitamme siitä sähköpostitse tai puhelimitse. Tunti järjestetään Tahko Span alakerrassa\, ohjeet saat vastaanotosta. \nEnnen tuntia: Pukuhuoneet ovat käytettävissä ja et tarvitse paikalle muuta kuin itsesi – tule paikalle ja nauti. \n👉 Ilmottaudu mukaan täältä \n  \n 
URL:https://tahkospa.fi/tapahtuma/yinjooga/2026-01-17/
ATTACH;FMTTYPE=image/jpeg:https://tahkospa.fi/wp-content/uploads/2025/12/pexels-photo-8391651-8391651-scaled.jpg
END:VEVENT
BEGIN:VEVENT
DTSTART;TZID=Europe/Helsinki:20260123T170000
DTEND;TZID=Europe/Helsinki:20260123T190000
DTSTAMP:20260419T205334
CREATED:20250918T065746Z
LAST-MODIFIED:20260417T122429Z
UID:10000604-1769187600-1769194800@tahkospa.fi
SUMMARY:SuperPark Tahko: Sparkle-ilta
DESCRIPTION:SuperParkin Sparkle-ilta on lasten ja nuorten omat afterski-bileet! \nNimensä mukaisesti illat ovat täynnä menoa ja meininkiä\, värivaloja sekä musiikkia. Illan aikana tehdään kasvomaalauksia\, opetellaan temppuja benjitrampalla\, pompitaan valotrampoilla\, järjestetään leikkimielisiä kisailuja sekä hypätään köysiradalta ja trapetsilta foam-altaaseen. \nPääsylippu pelkkään Sparkle -iltaan 15 €. \nSuperPark päivä- tai osapäivälipun hankkineille ja SuperParkin kausikortti superiin sisäänpääsy kuuluu hankitun lipun hintaan. Arkikausikortin käyttäjä pääsee sisään loma-aikoina 5 € lisämaksulla.
URL:https://tahkospa.fi/tapahtuma/superpark-tahko-sparkle-ilta-2/2026-01-23/
ATTACH;FMTTYPE=image/jpeg:https://tahkospa.fi/wp-content/uploads/2025/05/A7C01587_crop-1024x683-2.jpg
END:VEVENT
BEGIN:VEVENT
DTSTART;TZID=Europe/Helsinki:20260124T100000
DTEND;TZID=Europe/Helsinki:20260124T110000
DTSTAMP:20260419T205334
CREATED:20251202T112719Z
LAST-MODIFIED:20260124T090408Z
UID:10000703-1769248800-1769252400@tahkospa.fi
SUMMARY:Yin-jooga + äänimaljarentoutus 45 min
DESCRIPTION:Lempeä yin-harjoitus ja äänimaljojen rauhoittava sointi vievät sinut syvään rentoutumiseen. Tervetuloa hellimään kehoa ja mieltä! 💙 \nHinta: 12 € / 45 min / hlö (10€ Tahko Span kautta majoituksen varanneille)\, maksu Tahko Span vastaanottoon. \nToteutus: Tunti järjestetään\, mikäli osallistujia on vähintään 4 – ilmoittautuminen lomakkeella on sitova. Mikäli tunti peruuntuu\, ilmoitamme siitä sähköpostitse tai puhelimitse. Tunti järjestetään Tahko Span alakerrassa\, ohjeet saat vastaanotosta. \nEnnen tuntia: Pukuhuoneet ovat käytettävissä ja et tarvitse paikalle muuta kuin itsesi – tule paikalle ja nauti. \n👉 Ilmottaudu mukaan täältä \n  \n 
URL:https://tahkospa.fi/tapahtuma/yinjooga/2026-01-24/
ATTACH;FMTTYPE=image/jpeg:https://tahkospa.fi/wp-content/uploads/2025/12/pexels-photo-8391651-8391651-scaled.jpg
END:VEVENT
BEGIN:VEVENT
DTSTART;TZID=Europe/Helsinki:20260130T170000
DTEND;TZID=Europe/Helsinki:20260130T190000
DTSTAMP:20260419T205334
CREATED:20250918T065746Z
LAST-MODIFIED:20260417T122429Z
UID:10000605-1769792400-1769799600@tahkospa.fi
SUMMARY:SuperPark Tahko: Sparkle-ilta
DESCRIPTION:SuperParkin Sparkle-ilta on lasten ja nuorten omat afterski-bileet! \nNimensä mukaisesti illat ovat täynnä menoa ja meininkiä\, värivaloja sekä musiikkia. Illan aikana tehdään kasvomaalauksia\, opetellaan temppuja benjitrampalla\, pompitaan valotrampoilla\, järjestetään leikkimielisiä kisailuja sekä hypätään köysiradalta ja trapetsilta foam-altaaseen. \nPääsylippu pelkkään Sparkle -iltaan 15 €. \nSuperPark päivä- tai osapäivälipun hankkineille ja SuperParkin kausikortti superiin sisäänpääsy kuuluu hankitun lipun hintaan. Arkikausikortin käyttäjä pääsee sisään loma-aikoina 5 € lisämaksulla.
URL:https://tahkospa.fi/tapahtuma/superpark-tahko-sparkle-ilta-2/2026-01-30/
ATTACH;FMTTYPE=image/jpeg:https://tahkospa.fi/wp-content/uploads/2025/05/A7C01587_crop-1024x683-2.jpg
END:VEVENT
END:VCALENDAR