BEGIN:VCALENDAR
VERSION:2.0
PRODID:-//Tahko Spa Hotel - ECPv6.15.20//NONSGML v1.0//EN
CALSCALE:GREGORIAN
METHOD:PUBLISH
X-WR-CALNAME:Tahko Spa Hotel
X-ORIGINAL-URL:https://tahkospa.fi
X-WR-CALDESC:Tapahtumat Tahko Spa Hotel
REFRESH-INTERVAL;VALUE=DURATION:PT1H
X-Robots-Tag:noindex
X-PUBLISHED-TTL:PT1H
BEGIN:VTIMEZONE
TZID:Europe/Helsinki
BEGIN:DAYLIGHT
TZOFFSETFROM:+0200
TZOFFSETTO:+0300
TZNAME:EEST
DTSTART:20250330T010000
END:DAYLIGHT
BEGIN:STANDARD
TZOFFSETFROM:+0300
TZOFFSETTO:+0200
TZNAME:EET
DTSTART:20251026T010000
END:STANDARD
BEGIN:DAYLIGHT
TZOFFSETFROM:+0200
TZOFFSETTO:+0300
TZNAME:EEST
DTSTART:20260329T010000
END:DAYLIGHT
BEGIN:STANDARD
TZOFFSETFROM:+0300
TZOFFSETTO:+0200
TZNAME:EET
DTSTART:20261025T010000
END:STANDARD
BEGIN:DAYLIGHT
TZOFFSETFROM:+0200
TZOFFSETTO:+0300
TZNAME:EEST
DTSTART:20270328T010000
END:DAYLIGHT
BEGIN:STANDARD
TZOFFSETFROM:+0300
TZOFFSETTO:+0200
TZNAME:EET
DTSTART:20271031T010000
END:STANDARD
END:VTIMEZONE
BEGIN:VEVENT
DTSTART;TZID=Europe/Helsinki:20260515T080000
DTEND;TZID=Europe/Helsinki:20260516T170000
DTSTAMP:20260419T175009
CREATED:20260417T105331Z
LAST-MODIFIED:20260417T105331Z
UID:10000763-1778832000-1778950800@tahkospa.fi
SUMMARY:Suuri Polttariviikonloppu 15.5.-16.5.
DESCRIPTION:Polttariporukoille suunnattu viikonloppu Tahkolla – tiedossa on mm. erotiikkabingoa\, olutjoogaa ja iltajuhlia. Alueen toimijat ovat miettineet ohjelman – teidän tarvitsee vain valita teille mieleinen ja saapua paikan päälle. 🪩 \nTarjoamme polttariporukoille viikonlopun ajan: \n\nValo ja Kajo Sviitit 490€ / yö (norm. 840€) – nauti poreammeesta\, isoista saunatiloista ja tilavasta sviitistä polttariporukalla\, varaa täältä\nPolttarisankari pääsee veloituksetta:\n\nHohtominigolf\nKeilakengät veloituksetta\nKuntosali\nPakohuonepeli\n\n\n\nKatso tarkempi ohjelma täältä.
URL:https://tahkospa.fi/tapahtuma/suuri-polttariviikonloppu-15-5-16-5/
ATTACH;FMTTYPE=image/jpeg:https://tahkospa.fi/wp-content/uploads/2026/04/gab80d83d2505f57c5e67b21c76533ebd8d2899903c3a74d9d4892e38080d93f3371fe8001550f9d7929099eb5ed33e5d2e4ed73d885fa61c0254820f5a0a9d5f_1280-4736380.jpg
END:VEVENT
BEGIN:VEVENT
DTSTART;TZID=Europe/Helsinki:20260515T170000
DTEND;TZID=Europe/Helsinki:20260515T190000
DTSTAMP:20260419T175009
CREATED:20250918T065746Z
LAST-MODIFIED:20260417T122429Z
UID:10000620-1778864400-1778871600@tahkospa.fi
SUMMARY:SuperPark Tahko: Sparkle-ilta
DESCRIPTION:SuperParkin Sparkle-ilta on lasten ja nuorten omat afterski-bileet! \nNimensä mukaisesti illat ovat täynnä menoa ja meininkiä\, värivaloja sekä musiikkia. Illan aikana tehdään kasvomaalauksia\, opetellaan temppuja benjitrampalla\, pompitaan valotrampoilla\, järjestetään leikkimielisiä kisailuja sekä hypätään köysiradalta ja trapetsilta foam-altaaseen. \nPääsylippu pelkkään Sparkle -iltaan 15 €. \nSuperPark päivä- tai osapäivälipun hankkineille ja SuperParkin kausikortti superiin sisäänpääsy kuuluu hankitun lipun hintaan. Arkikausikortin käyttäjä pääsee sisään loma-aikoina 5 € lisämaksulla.
URL:https://tahkospa.fi/tapahtuma/superpark-tahko-sparkle-ilta-2/2026-05-15/
ATTACH;FMTTYPE=image/jpeg:https://tahkospa.fi/wp-content/uploads/2025/05/A7C01587_crop-1024x683-2.jpg
END:VEVENT
BEGIN:VEVENT
DTSTART;TZID=Europe/Helsinki:20260522T170000
DTEND;TZID=Europe/Helsinki:20260522T190000
DTSTAMP:20260419T175009
CREATED:20250918T065746Z
LAST-MODIFIED:20260417T122429Z
UID:10000621-1779469200-1779476400@tahkospa.fi
SUMMARY:SuperPark Tahko: Sparkle-ilta
DESCRIPTION:SuperParkin Sparkle-ilta on lasten ja nuorten omat afterski-bileet! \nNimensä mukaisesti illat ovat täynnä menoa ja meininkiä\, värivaloja sekä musiikkia. Illan aikana tehdään kasvomaalauksia\, opetellaan temppuja benjitrampalla\, pompitaan valotrampoilla\, järjestetään leikkimielisiä kisailuja sekä hypätään köysiradalta ja trapetsilta foam-altaaseen. \nPääsylippu pelkkään Sparkle -iltaan 15 €. \nSuperPark päivä- tai osapäivälipun hankkineille ja SuperParkin kausikortti superiin sisäänpääsy kuuluu hankitun lipun hintaan. Arkikausikortin käyttäjä pääsee sisään loma-aikoina 5 € lisämaksulla.
URL:https://tahkospa.fi/tapahtuma/superpark-tahko-sparkle-ilta-2/2026-05-22/
ATTACH;FMTTYPE=image/jpeg:https://tahkospa.fi/wp-content/uploads/2025/05/A7C01587_crop-1024x683-2.jpg
END:VEVENT
BEGIN:VEVENT
DTSTART;TZID=Europe/Helsinki:20260529T170000
DTEND;TZID=Europe/Helsinki:20260529T190000
DTSTAMP:20260419T175009
CREATED:20250918T065746Z
LAST-MODIFIED:20260417T122429Z
UID:10000622-1780074000-1780081200@tahkospa.fi
SUMMARY:SuperPark Tahko: Sparkle-ilta
DESCRIPTION:SuperParkin Sparkle-ilta on lasten ja nuorten omat afterski-bileet! \nNimensä mukaisesti illat ovat täynnä menoa ja meininkiä\, värivaloja sekä musiikkia. Illan aikana tehdään kasvomaalauksia\, opetellaan temppuja benjitrampalla\, pompitaan valotrampoilla\, järjestetään leikkimielisiä kisailuja sekä hypätään köysiradalta ja trapetsilta foam-altaaseen. \nPääsylippu pelkkään Sparkle -iltaan 15 €. \nSuperPark päivä- tai osapäivälipun hankkineille ja SuperParkin kausikortti superiin sisäänpääsy kuuluu hankitun lipun hintaan. Arkikausikortin käyttäjä pääsee sisään loma-aikoina 5 € lisämaksulla.
URL:https://tahkospa.fi/tapahtuma/superpark-tahko-sparkle-ilta-2/2026-05-29/
ATTACH;FMTTYPE=image/jpeg:https://tahkospa.fi/wp-content/uploads/2025/05/A7C01587_crop-1024x683-2.jpg
END:VEVENT
END:VCALENDAR