BEGIN:VCALENDAR
VERSION:2.0
PRODID:-//Tahko Spa Hotel - ECPv6.15.20//NONSGML v1.0//EN
CALSCALE:GREGORIAN
METHOD:PUBLISH
X-ORIGINAL-URL:https://tahkospa.fi
X-WR-CALDESC:Tapahtumat Tahko Spa Hotel
REFRESH-INTERVAL;VALUE=DURATION:PT1H
X-Robots-Tag:noindex
X-PUBLISHED-TTL:PT1H
BEGIN:VTIMEZONE
TZID:Europe/Helsinki
BEGIN:DAYLIGHT
TZOFFSETFROM:+0200
TZOFFSETTO:+0300
TZNAME:EEST
DTSTART:20250330T010000
END:DAYLIGHT
BEGIN:STANDARD
TZOFFSETFROM:+0300
TZOFFSETTO:+0200
TZNAME:EET
DTSTART:20251026T010000
END:STANDARD
BEGIN:DAYLIGHT
TZOFFSETFROM:+0200
TZOFFSETTO:+0300
TZNAME:EEST
DTSTART:20260329T010000
END:DAYLIGHT
BEGIN:STANDARD
TZOFFSETFROM:+0300
TZOFFSETTO:+0200
TZNAME:EET
DTSTART:20261025T010000
END:STANDARD
BEGIN:DAYLIGHT
TZOFFSETFROM:+0200
TZOFFSETTO:+0300
TZNAME:EEST
DTSTART:20270328T010000
END:DAYLIGHT
BEGIN:STANDARD
TZOFFSETFROM:+0300
TZOFFSETTO:+0200
TZNAME:EET
DTSTART:20271031T010000
END:STANDARD
END:VTIMEZONE
BEGIN:VEVENT
DTSTART;TZID=Europe/Helsinki:20260605T080000
DTEND;TZID=Europe/Helsinki:20260607T170000
DTSTAMP:20260419T192743
CREATED:20260312T095133Z
LAST-MODIFIED:20260312T095133Z
UID:10000747-1780646400-1780851600@tahkospa.fi
SUMMARY:Kunkkufest
DESCRIPTION:Tahkon kesäkausi saa näyttävän startin kesäkuun alussa\, kun upouusi KunkkuFest valtaa Tahkolahden ranta-alueen 5.–6.6.2026. Luvassa on kahden päivän mittainen bileviikonloppu täynnä kotimaista nostalgiaa ja kansainvälistä eurodance-huumaa. Osta liput täältä! \nTässä tapahtuman tärpit pähkinänkuoressa: \nPerjantai 5.6. – Nostalgian havinaa\nViikonloppu käynnistyy todellisella suomiviihteen ilotulituksella. Lavalle nousevat: \n\n\nDingo – Suomirokin legendat. \n\n\nEini – Diskoteekkien kestosuosikki. \n\n\nVirve Rosti & Freeman ja Menneisyyden vangit – Taattua yhteislaulutunnelmaa. \n\n\nLauantai 6.6. – Ysäritykitystä\nLauantaina tahti kiihtyy\, kun festivaalialueen täyttävät ysärihitit ja energinen eurodance: \n\n\nSolid Base & Daze – Pohjoismaista tanssimusiikin kärkikaartia. \n\n\nRama & Chorale – Vauhdikasta menoa ja tuttuja kertosäkeitä. \n\n\nOku Luukkainen – Suomen tunnetuin ysäriguru varmistaa\, että tanssilattia pysyy kuumana. \n\n\nPaikka: Tahkolahden ranta\, Tahko \nAika: 5.–6. kesäkuuta 2026
URL:https://tahkospa.fi/tapahtuma/kunkkufest/
ATTACH;FMTTYPE=image/jpeg:https://tahkospa.fi/wp-content/uploads/2026/03/pexels-photo-1190298-1190298-scaled.jpg
END:VEVENT
BEGIN:VEVENT
DTSTART;TZID=Europe/Helsinki:20260605T170000
DTEND;TZID=Europe/Helsinki:20260605T190000
DTSTAMP:20260419T192743
CREATED:20250918T065746Z
LAST-MODIFIED:20260417T122429Z
UID:10000623-1780678800-1780686000@tahkospa.fi
SUMMARY:SuperPark Tahko: Sparkle-ilta
DESCRIPTION:SuperParkin Sparkle-ilta on lasten ja nuorten omat afterski-bileet! \nNimensä mukaisesti illat ovat täynnä menoa ja meininkiä\, värivaloja sekä musiikkia. Illan aikana tehdään kasvomaalauksia\, opetellaan temppuja benjitrampalla\, pompitaan valotrampoilla\, järjestetään leikkimielisiä kisailuja sekä hypätään köysiradalta ja trapetsilta foam-altaaseen. \nPääsylippu pelkkään Sparkle -iltaan 15 €. \nSuperPark päivä- tai osapäivälipun hankkineille ja SuperParkin kausikortti superiin sisäänpääsy kuuluu hankitun lipun hintaan. Arkikausikortin käyttäjä pääsee sisään loma-aikoina 5 € lisämaksulla.
URL:https://tahkospa.fi/tapahtuma/superpark-tahko-sparkle-ilta-2/2026-06-05/
ATTACH;FMTTYPE=image/jpeg:https://tahkospa.fi/wp-content/uploads/2025/05/A7C01587_crop-1024x683-2.jpg
END:VEVENT
BEGIN:VEVENT
DTSTART;VALUE=DATE:20260606
DTEND;VALUE=DATE:20260607
DTSTAMP:20260419T192743
CREATED:20260312T104646Z
LAST-MODIFIED:20260312T104646Z
UID:10000752-1780704000-1780790399@tahkospa.fi
SUMMARY:Tahko Extreme 2026: Haasta itsesi kesän kovimmassa Hyrox-simulaatiossa!
DESCRIPTION:Oletko valmis testaamaan rajasi Tahkon henkeäsalpaavissa maisemissa? TehoTapahtumat ja Sunset TL kutsuvat sinut 6.6.2026 mukaan ainutlaatuiseen hyvän mielen voimainkoetukseen! \nKisa yhdistää kestävyyden ja voiman: luvassa on kahdeksan 1 km juoksuosuutta sekä kahdeksan toiminnallista harjoitusta. Eikä siinä vielä kaikki – kisan kruunaa loppunousu Suomen pisimmissä kuntoportaissa! 1054 porrasta ja 800 metriä nousua takaavat\, että jokainen maaliviivan saavuttanut tuntee itsensä todelliseksi voittajaksi. \nValitse oma tyylisi: \n\n\nYksilö-\, pari- tai tiimisarjat: Kisaa verissä päin tai ota kaverit mukaan. \n\n\nKilpasarjat: Naiset\, miehet ja sekasarjat. \n\n\nTiimikisa (4 hlö): Matalan kynnyksen sarja\, joka sopii täydellisesti vaikkapa työporukan virkistyspäiväksi tai ensikertalaisille. \n\n\nILMOTTAUDU MUKAAN TÄÄLTÄ \nMajoitusvinkki: Kisaajille tarjotaan -20 % alennus Tahko Spa:n huoneistoista koodilla HYROX. Etu on voimassa 4.–7.6.2026. Varaa majoitus täältä
URL:https://tahkospa.fi/tapahtuma/tahko-extreme-2026-haasta-itsesi-kesan-kovimmassa-hyrox-simulaatiossa/
ATTACH;FMTTYPE=image/jpeg:https://tahkospa.fi/wp-content/uploads/2026/03/IMG_1881.jpg
END:VEVENT
BEGIN:VEVENT
DTSTART;TZID=Europe/Helsinki:20260612T080000
DTEND;TZID=Europe/Helsinki:20260614T170000
DTSTAMP:20260419T192743
CREATED:20260417T113653Z
LAST-MODIFIED:20260419T125846Z
UID:10000764-1781251200-1781456400@tahkospa.fi
SUMMARY:Wellness Weekend
DESCRIPTION:Hyvinvoinnin\, rentoutumisen ja yhdessäolon viikonloppu Tahko Spassa – tervetuloa mukaan Wellness Weekendiin!\nTahkon upea ympäristö tarjoaa täydelliset puitteet rauhoittumiselle ja levolle. Wellness Weekend on suunniteltu sinulle\, joka haluat ladata akkujasi ja voida hyvin luonnon keskellä. Kesäkuussa Tahko on rauhallinen\, luonto on kauneimmillaan ja kesäyöt pitkiä ja valoisia. Täydellinen ajankohta siis Wellness Weekendille. \nWellness Weekendin ohjelma\nPe 12.6.\nSaapuminen Tahko Spa Suites Greeniin\nÄänimaljarentoutus Tahko Spalla\nSuositusillallinen Ravintola Rehdissä \nLa 13.6.\nPaint & Brunch\nVapaa-aikaa: voit nauttia etuhintaisia hemmotteluhoitoja\, rentoutua allasosastolla tai ulkoilla Tahkon upeissa maisemissa\nPilates ulkona\nSaunominen & uinti Löylykontissa\nSuositusillallinen SooSoossa \nSu 14.6.\nAamiainen huoneistoissa\nYinjooga\nUloskirjautuminen \nHinnoittelu\nHinta 185€ / henkilö (2-4 hengen huoneistoissa\, edellyttää täysiä majoituspaikkoja)\, sisältää: \n\nKahden yön majoitus huoneistossa Suites Greenissä: Riippuen ryhmäkoosta joko kahden hengen Lilja Suite\, kolmen hengen Halla Suite tai neljän hengen Kuura Suite\nÄänimaljarentoutus\, pilates- ja joogatunti\nOhjattu maalaustunti\nBrunssi la & aamiainen huoneistossa su\nLöylykontti tai liput allasosastolle\nRajaton kuntosalin käyttö\n\nIlmottautuminen\nIlmottaudu mukaan sales@tahkospa.fi (viimeistään 4.6.2026\, mikäli paikkoja on vapaana) \nTunnit vetää Amanda Laakkonen\nAmanda on kokenut äänimaljahoitaja ja jooga- ja pilatesohjaaja. Amandalle on tärkeää\, että jokainen voi tulla tunnille juuri sellaisena kuin on. Hänen tavoitteena on luoda jokaiselle tunnille lämmin\, välitön ja rentouttava tunnelma.
URL:https://tahkospa.fi/tapahtuma/wellness-weekend/
ATTACH;FMTTYPE=image/jpeg:https://tahkospa.fi/wp-content/uploads/2026/04/pexels-photo-6252094-6252094-scaled.jpg
END:VEVENT
BEGIN:VEVENT
DTSTART;TZID=Europe/Helsinki:20260612T170000
DTEND;TZID=Europe/Helsinki:20260612T190000
DTSTAMP:20260419T192743
CREATED:20250918T065746Z
LAST-MODIFIED:20260417T122429Z
UID:10000624-1781283600-1781290800@tahkospa.fi
SUMMARY:SuperPark Tahko: Sparkle-ilta
DESCRIPTION:SuperParkin Sparkle-ilta on lasten ja nuorten omat afterski-bileet! \nNimensä mukaisesti illat ovat täynnä menoa ja meininkiä\, värivaloja sekä musiikkia. Illan aikana tehdään kasvomaalauksia\, opetellaan temppuja benjitrampalla\, pompitaan valotrampoilla\, järjestetään leikkimielisiä kisailuja sekä hypätään köysiradalta ja trapetsilta foam-altaaseen. \nPääsylippu pelkkään Sparkle -iltaan 15 €. \nSuperPark päivä- tai osapäivälipun hankkineille ja SuperParkin kausikortti superiin sisäänpääsy kuuluu hankitun lipun hintaan. Arkikausikortin käyttäjä pääsee sisään loma-aikoina 5 € lisämaksulla.
URL:https://tahkospa.fi/tapahtuma/superpark-tahko-sparkle-ilta-2/2026-06-12/
ATTACH;FMTTYPE=image/jpeg:https://tahkospa.fi/wp-content/uploads/2025/05/A7C01587_crop-1024x683-2.jpg
END:VEVENT
BEGIN:VEVENT
DTSTART;TZID=Europe/Helsinki:20260619T080000
DTEND;TZID=Europe/Helsinki:20260621T170000
DTSTAMP:20260419T192743
CREATED:20260311T143127Z
LAST-MODIFIED:20260311T143127Z
UID:10000746-1781856000-1782061200@tahkospa.fi
SUMMARY:Tahkon Juhannusjuhlat
DESCRIPTION:Tahkon Juhannusjuhlat on Savon suurin ja odotetuin keskikesän festivaali! Tahko Event Park täyttyy upeasta tunnelmasta\, Suomen suosituimmista artisteista ja tuhansista juhlijoista. Täällä yhdistyvät kesäyön taika\, järvimaisemat ja parhaat bileet – tule luomaan unohtumattomia juhannusmuistoja Tahkon sydämessä! \nVaraa majoitus täältä ja osta samalla kahden päivän edulliset liput Juhannusjuhliin ❤️
URL:https://tahkospa.fi/tapahtuma/tahkon-juhannusjuhlat/
ATTACH;FMTTYPE=image/jpeg:https://tahkospa.fi/wp-content/uploads/2026/02/pexels-photo-25016471-25016471-scaled.jpg
END:VEVENT
BEGIN:VEVENT
DTSTART;TZID=Europe/Helsinki:20260619T170000
DTEND;TZID=Europe/Helsinki:20260619T190000
DTSTAMP:20260419T192743
CREATED:20250918T065746Z
LAST-MODIFIED:20260417T122429Z
UID:10000625-1781888400-1781895600@tahkospa.fi
SUMMARY:SuperPark Tahko: Sparkle-ilta
DESCRIPTION:SuperParkin Sparkle-ilta on lasten ja nuorten omat afterski-bileet! \nNimensä mukaisesti illat ovat täynnä menoa ja meininkiä\, värivaloja sekä musiikkia. Illan aikana tehdään kasvomaalauksia\, opetellaan temppuja benjitrampalla\, pompitaan valotrampoilla\, järjestetään leikkimielisiä kisailuja sekä hypätään köysiradalta ja trapetsilta foam-altaaseen. \nPääsylippu pelkkään Sparkle -iltaan 15 €. \nSuperPark päivä- tai osapäivälipun hankkineille ja SuperParkin kausikortti superiin sisäänpääsy kuuluu hankitun lipun hintaan. Arkikausikortin käyttäjä pääsee sisään loma-aikoina 5 € lisämaksulla.
URL:https://tahkospa.fi/tapahtuma/superpark-tahko-sparkle-ilta-2/2026-06-19/
ATTACH;FMTTYPE=image/jpeg:https://tahkospa.fi/wp-content/uploads/2025/05/A7C01587_crop-1024x683-2.jpg
END:VEVENT
BEGIN:VEVENT
DTSTART;TZID=Europe/Helsinki:20260626T170000
DTEND;TZID=Europe/Helsinki:20260626T190000
DTSTAMP:20260419T192743
CREATED:20250918T065746Z
LAST-MODIFIED:20260417T122429Z
UID:10000626-1782493200-1782500400@tahkospa.fi
SUMMARY:SuperPark Tahko: Sparkle-ilta
DESCRIPTION:SuperParkin Sparkle-ilta on lasten ja nuorten omat afterski-bileet! \nNimensä mukaisesti illat ovat täynnä menoa ja meininkiä\, värivaloja sekä musiikkia. Illan aikana tehdään kasvomaalauksia\, opetellaan temppuja benjitrampalla\, pompitaan valotrampoilla\, järjestetään leikkimielisiä kisailuja sekä hypätään köysiradalta ja trapetsilta foam-altaaseen. \nPääsylippu pelkkään Sparkle -iltaan 15 €. \nSuperPark päivä- tai osapäivälipun hankkineille ja SuperParkin kausikortti superiin sisäänpääsy kuuluu hankitun lipun hintaan. Arkikausikortin käyttäjä pääsee sisään loma-aikoina 5 € lisämaksulla.
URL:https://tahkospa.fi/tapahtuma/superpark-tahko-sparkle-ilta-2/2026-06-26/
ATTACH;FMTTYPE=image/jpeg:https://tahkospa.fi/wp-content/uploads/2025/05/A7C01587_crop-1024x683-2.jpg
END:VEVENT
END:VCALENDAR