BEGIN:VCALENDAR
VERSION:2.0
PRODID:-//Tahko Spa Hotel - ECPv6.15.20//NONSGML v1.0//EN
CALSCALE:GREGORIAN
METHOD:PUBLISH
X-WR-CALNAME:Tahko Spa Hotel
X-ORIGINAL-URL:https://tahkospa.fi
X-WR-CALDESC:Tapahtumat Tahko Spa Hotel
REFRESH-INTERVAL;VALUE=DURATION:PT1H
X-Robots-Tag:noindex
X-PUBLISHED-TTL:PT1H
BEGIN:VTIMEZONE
TZID:Europe/Helsinki
BEGIN:DAYLIGHT
TZOFFSETFROM:+0200
TZOFFSETTO:+0300
TZNAME:EEST
DTSTART:20250330T010000
END:DAYLIGHT
BEGIN:STANDARD
TZOFFSETFROM:+0300
TZOFFSETTO:+0200
TZNAME:EET
DTSTART:20251026T010000
END:STANDARD
BEGIN:DAYLIGHT
TZOFFSETFROM:+0200
TZOFFSETTO:+0300
TZNAME:EEST
DTSTART:20260329T010000
END:DAYLIGHT
BEGIN:STANDARD
TZOFFSETFROM:+0300
TZOFFSETTO:+0200
TZNAME:EET
DTSTART:20261025T010000
END:STANDARD
BEGIN:DAYLIGHT
TZOFFSETFROM:+0200
TZOFFSETTO:+0300
TZNAME:EEST
DTSTART:20270328T010000
END:DAYLIGHT
BEGIN:STANDARD
TZOFFSETFROM:+0300
TZOFFSETTO:+0200
TZNAME:EET
DTSTART:20271031T010000
END:STANDARD
END:VTIMEZONE
BEGIN:VEVENT
DTSTART;TZID=Europe/Helsinki:20260706T160000
DTEND;TZID=Europe/Helsinki:20260706T170000
DTSTAMP:20260423T023753
CREATED:20260422T200616Z
LAST-MODIFIED:20260422T200626Z
UID:10000765-1783353600-1783357200@tahkospa.fi
SUMMARY:Pilates ulkona
DESCRIPTION:Tervetuloa mukaan nauttimaan pilateksesta ulkona (sään salliessa)! \nHinta: 12€ (10€ meidän kautta majoituksen varanneille) \nKesto: 45min \nIlmottautuminen avautuu lähempänä heinäkuuta. 🙂 \n  \n 
URL:https://tahkospa.fi/tapahtuma/pilates-ulkona/2026-07-06/
ATTACH;FMTTYPE=image/jpeg:https://tahkospa.fi/wp-content/uploads/2026/04/pexels-photo-4378967-4378967-scaled.jpg
END:VEVENT
BEGIN:VEVENT
DTSTART;TZID=Europe/Helsinki:20260713T160000
DTEND;TZID=Europe/Helsinki:20260713T170000
DTSTAMP:20260423T023753
CREATED:20260422T200616Z
LAST-MODIFIED:20260422T200626Z
UID:10000766-1783958400-1783962000@tahkospa.fi
SUMMARY:Pilates ulkona
DESCRIPTION:Tervetuloa mukaan nauttimaan pilateksesta ulkona (sään salliessa)! \nHinta: 12€ (10€ meidän kautta majoituksen varanneille) \nKesto: 45min \nIlmottautuminen avautuu lähempänä heinäkuuta. 🙂 \n  \n 
URL:https://tahkospa.fi/tapahtuma/pilates-ulkona/2026-07-13/
ATTACH;FMTTYPE=image/jpeg:https://tahkospa.fi/wp-content/uploads/2026/04/pexels-photo-4378967-4378967-scaled.jpg
END:VEVENT
BEGIN:VEVENT
DTSTART;TZID=Europe/Helsinki:20260720T160000
DTEND;TZID=Europe/Helsinki:20260720T170000
DTSTAMP:20260423T023753
CREATED:20260422T200616Z
LAST-MODIFIED:20260422T200626Z
UID:10000767-1784563200-1784566800@tahkospa.fi
SUMMARY:Pilates ulkona
DESCRIPTION:Tervetuloa mukaan nauttimaan pilateksesta ulkona (sään salliessa)! \nHinta: 12€ (10€ meidän kautta majoituksen varanneille) \nKesto: 45min \nIlmottautuminen avautuu lähempänä heinäkuuta. 🙂 \n  \n 
URL:https://tahkospa.fi/tapahtuma/pilates-ulkona/2026-07-20/
ATTACH;FMTTYPE=image/jpeg:https://tahkospa.fi/wp-content/uploads/2026/04/pexels-photo-4378967-4378967-scaled.jpg
END:VEVENT
BEGIN:VEVENT
DTSTART;TZID=Europe/Helsinki:20260727T160000
DTEND;TZID=Europe/Helsinki:20260727T170000
DTSTAMP:20260423T023753
CREATED:20260422T200616Z
LAST-MODIFIED:20260422T200626Z
UID:10000768-1785168000-1785171600@tahkospa.fi
SUMMARY:Pilates ulkona
DESCRIPTION:Tervetuloa mukaan nauttimaan pilateksesta ulkona (sään salliessa)! \nHinta: 12€ (10€ meidän kautta majoituksen varanneille) \nKesto: 45min \nIlmottautuminen avautuu lähempänä heinäkuuta. 🙂 \n  \n 
URL:https://tahkospa.fi/tapahtuma/pilates-ulkona/2026-07-27/
ATTACH;FMTTYPE=image/jpeg:https://tahkospa.fi/wp-content/uploads/2026/04/pexels-photo-4378967-4378967-scaled.jpg
END:VEVENT
END:VCALENDAR